BEGIN:VCALENDAR
VERSION:2.0
PRODID:-//Testnevelési és Sport Intézet - ECPv6.5.0.1//NONSGML v1.0//EN
CALSCALE:GREGORIAN
METHOD:PUBLISH
X-WR-CALNAME:Testnevelési és Sport Intézet
X-ORIGINAL-URL:https://tsi.uni-obuda.hu
X-WR-CALDESC:Events for Testnevelési és Sport Intézet
REFRESH-INTERVAL;VALUE=DURATION:PT1H
X-Robots-Tag:noindex
X-PUBLISHED-TTL:PT1H
BEGIN:VTIMEZONE
TZID:Europe/Budapest
BEGIN:DAYLIGHT
TZOFFSETFROM:+0100
TZOFFSETTO:+0200
TZNAME:CEST
DTSTART:20240331T010000
END:DAYLIGHT
BEGIN:STANDARD
TZOFFSETFROM:+0200
TZOFFSETTO:+0100
TZNAME:CET
DTSTART:20241027T010000
END:STANDARD
END:VTIMEZONE
BEGIN:VEVENT
DTSTART;TZID=Europe/Budapest:20241207T080000
DTEND;TZID=Europe/Budapest:20241208T170000
DTSTAMP:20260420T092159
CREATED:20241203T105121Z
LAST-MODIFIED:20241203T105121Z
UID:4038-1733558400-1733677200@tsi.uni-obuda.hu
SUMMARY:6th WORLD SPORT KEMPO CHAMPIONSHIP & 28th HANSHI CUP
DESCRIPTION:Szeretettel meghívlak benneteket a 6. UWSKF World Sport Kempo Championship 2024 és 28. Hanshi Kupára (Továbbiakban: Sport Kempo Világbajnokság) \nIdőpont: 2024. december 7-8. \nHelyszín: Törökbálint Sportcsarnok\, \, Cím: 2045\, Törökbálint\, Óvoda utca 6. \nhttps://sportkempo.hu/6th-world-sport-kempo-championship-28th-hanshi-cup/
URL:https://tsi.uni-obuda.hu/event/6th-world-sport-kempo-championship-28th-hanshi-cup/
LOCATION:Törökbálint Sportcsarnok\, \, Cím: 2045\, Törökbálint\, Óvoda utca 6.
END:VEVENT
BEGIN:VEVENT
DTSTART;TZID=Europe/Budapest:20241207T103000
DTEND;TZID=Europe/Budapest:20241207T143000
DTSTAMP:20260420T092159
CREATED:20241114T105231Z
LAST-MODIFIED:20241114T105231Z
UID:3896-1733567400-1733581800@tsi.uni-obuda.hu
SUMMARY:MIX és Női BEFS Universitas Röplabda Bajnokság
DESCRIPTION:Mérkőzések: \n10:30 Óbudai Egyetem UNI Női – NKE SE UNI Női \n12:00 Óbuda Egyetem UNI Mix – NKE SE UNI Mix
URL:https://tsi.uni-obuda.hu/event/mix-es-noi-befs-universitas-roplabda-bajnoksag-2/
LOCATION:Budapest\,  Tavaszmző utca 17./C Tornaterem
END:VEVENT
END:VCALENDAR