BEGIN:VCALENDAR
VERSION:2.0
PRODID:-//Testnevelési és Sport Intézet - ECPv6.5.0.1//NONSGML v1.0//EN
CALSCALE:GREGORIAN
METHOD:PUBLISH
X-ORIGINAL-URL:https://tsi.uni-obuda.hu
X-WR-CALDESC:Events for Testnevelési és Sport Intézet
REFRESH-INTERVAL;VALUE=DURATION:PT1H
X-Robots-Tag:noindex
X-PUBLISHED-TTL:PT1H
BEGIN:VTIMEZONE
TZID:Europe/Budapest
BEGIN:DAYLIGHT
TZOFFSETFROM:+0100
TZOFFSETTO:+0200
TZNAME:CEST
DTSTART:20240331T010000
END:DAYLIGHT
BEGIN:STANDARD
TZOFFSETFROM:+0200
TZOFFSETTO:+0100
TZNAME:CET
DTSTART:20241027T010000
END:STANDARD
END:VTIMEZONE
BEGIN:VEVENT
DTSTART;TZID=Europe/Budapest:20241207T080000
DTEND;TZID=Europe/Budapest:20241208T170000
DTSTAMP:20260420T092315
CREATED:20241203T105121Z
LAST-MODIFIED:20241203T105121Z
UID:4038-1733558400-1733677200@tsi.uni-obuda.hu
SUMMARY:6th WORLD SPORT KEMPO CHAMPIONSHIP & 28th HANSHI CUP
DESCRIPTION:Szeretettel meghívlak benneteket a 6. UWSKF World Sport Kempo Championship 2024 és 28. Hanshi Kupára (Továbbiakban: Sport Kempo Világbajnokság) \nIdőpont: 2024. december 7-8. \nHelyszín: Törökbálint Sportcsarnok\, \, Cím: 2045\, Törökbálint\, Óvoda utca 6. \nhttps://sportkempo.hu/6th-world-sport-kempo-championship-28th-hanshi-cup/
URL:https://tsi.uni-obuda.hu/event/6th-world-sport-kempo-championship-28th-hanshi-cup/
LOCATION:Törökbálint Sportcsarnok\, \, Cím: 2045\, Törökbálint\, Óvoda utca 6.
END:VEVENT
BEGIN:VEVENT
DTSTART;TZID=Europe/Budapest:20241208T080000
DTEND;TZID=Europe/Budapest:20241208T170000
DTSTAMP:20260420T092315
CREATED:20241021T091656Z
LAST-MODIFIED:20241021T091656Z
UID:2336-1733644800-1733677200@tsi.uni-obuda.hu
SUMMARY:Floorball Budapest Bajnokság
DESCRIPTION:Részletek és nevezés hamarosan…
URL:https://tsi.uni-obuda.hu/event/floorball-budapest-bajnoksag/
LOCATION:Budapest
END:VEVENT
BEGIN:VEVENT
DTSTART;TZID=Europe/Budapest:20241208T080000
DTEND;TZID=Europe/Budapest:20241208T170000
DTSTAMP:20260420T092315
CREATED:20241021T091907Z
LAST-MODIFIED:20241021T091907Z
UID:2338-1733644800-1733677200@tsi.uni-obuda.hu
SUMMARY:Erőemelő Magyar Egyetemi - Főiskolai Országos Bajnokság
DESCRIPTION:Időpont: 2024. december 8. vasárnap\nHelyszín: 1111 Budapest\, Műegyetem rakpart – BME K épület F46 (I. sz. tornaterem) \nNevezés: hamarosan….\nBővebb információk: https://mefs.hu/esemeny/eroemelo-mefob-2024/
URL:https://tsi.uni-obuda.hu/event/eroemelo-magyar-egyetemi-foiskolai-orszagos-bajnoksag/
LOCATION:1111 Budapest\, Műegyetem rakpart – BME K épület F46 (I. sz. tornaterem)
END:VEVENT
END:VCALENDAR