BEGIN:VCALENDAR
VERSION:2.0
PRODID:-//Testnevelési és Sport Intézet - ECPv6.5.0.1//NONSGML v1.0//EN
CALSCALE:GREGORIAN
METHOD:PUBLISH
X-ORIGINAL-URL:https://tsi.uni-obuda.hu
X-WR-CALDESC:Events for Testnevelési és Sport Intézet
REFRESH-INTERVAL;VALUE=DURATION:PT1H
X-Robots-Tag:noindex
X-PUBLISHED-TTL:PT1H
BEGIN:VTIMEZONE
TZID:Europe/Budapest
BEGIN:DAYLIGHT
TZOFFSETFROM:+0100
TZOFFSETTO:+0200
TZNAME:CEST
DTSTART:20240331T010000
END:DAYLIGHT
BEGIN:STANDARD
TZOFFSETFROM:+0200
TZOFFSETTO:+0100
TZNAME:CET
DTSTART:20241027T010000
END:STANDARD
END:VTIMEZONE
BEGIN:VEVENT
DTSTART;TZID=Europe/Budapest:20241214T100000
DTEND;TZID=Europe/Budapest:20241214T120000
DTSTAMP:20260420T092333
CREATED:20241114T103129Z
LAST-MODIFIED:20241114T110349Z
UID:3890-1734170400-1734177600@tsi.uni-obuda.hu
SUMMARY:Női és Férfi BEFS Universitas Röplabda Bajnokság
DESCRIPTION:Mérkőzések: \n10:00 Óbudai Egyetem UNI Férfi – KRE UNI Férfi \n12:00 Óbudai Egyetem UNI Női – KRE UNI Női
URL:https://tsi.uni-obuda.hu/event/ferfi-befs-universitas-roplabda-bajnoksag-2/
LOCATION:Budapest\,  Tavaszmző utca 17./C Tornaterem
END:VEVENT
END:VCALENDAR