BEGIN:VCALENDAR
VERSION:2.0
PRODID:-//Testnevelési és Sport Intézet - ECPv6.5.0.1//NONSGML v1.0//EN
CALSCALE:GREGORIAN
METHOD:PUBLISH
X-WR-CALNAME:Testnevelési és Sport Intézet
X-ORIGINAL-URL:https://tsi.uni-obuda.hu
X-WR-CALDESC:Events for Testnevelési és Sport Intézet
REFRESH-INTERVAL;VALUE=DURATION:PT1H
X-Robots-Tag:noindex
X-PUBLISHED-TTL:PT1H
BEGIN:VTIMEZONE
TZID:Europe/Budapest
BEGIN:DAYLIGHT
TZOFFSETFROM:+0100
TZOFFSETTO:+0200
TZNAME:CEST
DTSTART:20250330T010000
END:DAYLIGHT
BEGIN:STANDARD
TZOFFSETFROM:+0200
TZOFFSETTO:+0100
TZNAME:CET
DTSTART:20251026T010000
END:STANDARD
END:VTIMEZONE
BEGIN:VEVENT
DTSTART;VALUE=DATE:20250222
DTEND;VALUE=DATE:20250223
DTSTAMP:20260420T063526
CREATED:20250203T093631Z
LAST-MODIFIED:20250203T093631Z
UID:4121-1740182400-1740268799@tsi.uni-obuda.hu
SUMMARY:Evezős Ergométer Magyar Egyetemi-Főiskolai Országos Bajnokság
DESCRIPTION:Versenyinformációk: https://mefs.hu/esemeny/evezos-ergometeres-mefob-2025/ \nNevezés: Tóth Mikoltnál\, a toth.mikolt@uni-obuda.hu email címen\, vagy Hiervarter Ákosnál\, a hiervarter.akos@uni-obuda.hu email címen \n  \n 
URL:https://tsi.uni-obuda.hu/event/evezos-ergometer-magyar-egyetemi-foiskolai-orszagos-bajnoksag/
LOCATION:Kovács Katalin Nemzeti Kajak-Kenu Akadémia Sukorói kajak-kenu és evezős pálya 8096 Sukoró\, Tóparti út
END:VEVENT
BEGIN:VEVENT
DTSTART;TZID=Europe/Budapest:20250222T080000
DTEND;TZID=Europe/Budapest:20250222T170000
DTSTAMP:20260420T063526
CREATED:20250203T081300Z
LAST-MODIFIED:20250203T081300Z
UID:4116-1740211200-1740243600@tsi.uni-obuda.hu
SUMMARY:Magyar Parasport Napja
DESCRIPTION:Az esemény jóvoltából különböző eseményekkel készülünk. \nRészletek hamarosan…
URL:https://tsi.uni-obuda.hu/event/magyar-parasport-napja/
LOCATION:Budapest\,  Tavaszmző utca 17./C Tornaterem
END:VEVENT
END:VCALENDAR