BEGIN:VCALENDAR
VERSION:2.0
PRODID:-//Testnevelési és Sport Intézet - ECPv6.5.0.1//NONSGML v1.0//EN
CALSCALE:GREGORIAN
METHOD:PUBLISH
X-WR-CALNAME:Testnevelési és Sport Intézet
X-ORIGINAL-URL:https://tsi.uni-obuda.hu
X-WR-CALDESC:Events for Testnevelési és Sport Intézet
REFRESH-INTERVAL;VALUE=DURATION:PT1H
X-Robots-Tag:noindex
X-PUBLISHED-TTL:PT1H
BEGIN:VTIMEZONE
TZID:Europe/Budapest
BEGIN:DAYLIGHT
TZOFFSETFROM:+0100
TZOFFSETTO:+0200
TZNAME:CEST
DTSTART:20250330T010000
END:DAYLIGHT
BEGIN:STANDARD
TZOFFSETFROM:+0200
TZOFFSETTO:+0100
TZNAME:CET
DTSTART:20251026T010000
END:STANDARD
END:VTIMEZONE
BEGIN:VEVENT
DTSTART;VALUE=DATE:20250307
DTEND;VALUE=DATE:20250309
DTSTAMP:20260420T050601
CREATED:20250203T093317Z
LAST-MODIFIED:20250203T093342Z
UID:4118-1741305600-1741478399@tsi.uni-obuda.hu
SUMMARY:Kárpát-medencei Egyetemek Kupája (KEK Kupa)
DESCRIPTION:Indul a Kárpát-medencei Egyetemek Kupája\, amelyre várjuk azon hallgatók jelentkezését\, akik szívesen képviselnék egyetemünket sakkban\, dartsban vagy futásban. \nSakk jelentkezés: https://forms.office.com/e/TZQXZEVdzk \nDarts jelentkezés: https://forms.office.com/e/GRxCCNixEr \nFutás jelentkezés: https://forms.gle/hHx7hHp5bg2Egbqq7 \nRészletek: https://kekbudapest.hu/hirek/
URL:https://tsi.uni-obuda.hu/event/karpat-medencei-egyetemek-kupaja-kek-kupa/
LOCATION:Nemzeti Közszolgálati Egyetem – Ludovika Aréna
END:VEVENT
END:VCALENDAR