BEGIN:VCALENDAR
VERSION:2.0
PRODID:-//Testnevelési és Sport Intézet - ECPv6.5.0.1//NONSGML v1.0//EN
CALSCALE:GREGORIAN
METHOD:PUBLISH
X-ORIGINAL-URL:https://tsi.uni-obuda.hu
X-WR-CALDESC:Events for Testnevelési és Sport Intézet
REFRESH-INTERVAL;VALUE=DURATION:PT1H
X-Robots-Tag:noindex
X-PUBLISHED-TTL:PT1H
BEGIN:VTIMEZONE
TZID:Europe/Budapest
BEGIN:DAYLIGHT
TZOFFSETFROM:+0100
TZOFFSETTO:+0200
TZNAME:CEST
DTSTART:20250330T010000
END:DAYLIGHT
BEGIN:STANDARD
TZOFFSETFROM:+0200
TZOFFSETTO:+0100
TZNAME:CET
DTSTART:20251026T010000
END:STANDARD
END:VTIMEZONE
BEGIN:VEVENT
DTSTART;TZID=Europe/Budapest:20250318T180000
DTEND;TZID=Europe/Budapest:20250318T210000
DTSTAMP:20260420T050728
CREATED:20241115T080047Z
LAST-MODIFIED:20241115T080050Z
UID:3923-1742320800-1742331600@tsi.uni-obuda.hu
SUMMARY:Óbudai Egyetem-Kandó SC - ELTE BEAC kosárlabda mérkőzés
DESCRIPTION:2025. március 18. kedd 18:15\nHelyszín: Lónyay Utcai Református Gimnázium
URL:https://tsi.uni-obuda.hu/event/obudai-egyetem-kando-sc-elte-beac-kosarlabda-merkozes/
LOCATION:Budapest\, Kinizsi u. 1-7\, 1092
END:VEVENT
END:VCALENDAR