BEGIN:VCALENDAR
VERSION:2.0
PRODID:-//Testnevelési és Sport Intézet - ECPv6.5.0.1//NONSGML v1.0//EN
CALSCALE:GREGORIAN
METHOD:PUBLISH
X-ORIGINAL-URL:https://tsi.uni-obuda.hu
X-WR-CALDESC:Events for Testnevelési és Sport Intézet
REFRESH-INTERVAL;VALUE=DURATION:PT1H
X-Robots-Tag:noindex
X-PUBLISHED-TTL:PT1H
BEGIN:VTIMEZONE
TZID:Europe/Budapest
BEGIN:DAYLIGHT
TZOFFSETFROM:+0100
TZOFFSETTO:+0200
TZNAME:CEST
DTSTART:20250330T010000
END:DAYLIGHT
BEGIN:STANDARD
TZOFFSETFROM:+0200
TZOFFSETTO:+0100
TZNAME:CET
DTSTART:20251026T010000
END:STANDARD
END:VTIMEZONE
BEGIN:VEVENT
DTSTART;VALUE=DATE:20250405
DTEND;VALUE=DATE:20250407
DTSTAMP:20260420T033315
CREATED:20250203T094036Z
LAST-MODIFIED:20250203T094036Z
UID:4130-1743811200-1743983999@tsi.uni-obuda.hu
SUMMARY:Falmászó Magyar Egyetemi-Főiskolai Országos Bajnokság
DESCRIPTION:Versenyinformációk hamarosan…
URL:https://tsi.uni-obuda.hu/event/falmaszo-magyar-egyetemi-foiskolai-orszagos-bajnoksag/
LOCATION:MAG 47 Climb and Cafe\, 1106  Bp. Maglódi út 47.\,  direkt utcai bejárat: Kada u. 44.
END:VEVENT
END:VCALENDAR