BEGIN:VCALENDAR
VERSION:2.0
PRODID:-//Testnevelési és Sport Intézet - ECPv6.5.0.1//NONSGML v1.0//EN
CALSCALE:GREGORIAN
METHOD:PUBLISH
X-ORIGINAL-URL:https://tsi.uni-obuda.hu
X-WR-CALDESC:Events for Testnevelési és Sport Intézet
REFRESH-INTERVAL;VALUE=DURATION:PT1H
X-Robots-Tag:noindex
X-PUBLISHED-TTL:PT1H
BEGIN:VTIMEZONE
TZID:Europe/Budapest
BEGIN:DAYLIGHT
TZOFFSETFROM:+0100
TZOFFSETTO:+0200
TZNAME:CEST
DTSTART:20250330T010000
END:DAYLIGHT
BEGIN:STANDARD
TZOFFSETFROM:+0200
TZOFFSETTO:+0100
TZNAME:CET
DTSTART:20251026T010000
END:STANDARD
END:VTIMEZONE
BEGIN:VEVENT
DTSTART;VALUE=DATE:20250412
DTEND;VALUE=DATE:20250413
DTSTAMP:20260420T033315
CREATED:20250203T094823Z
LAST-MODIFIED:20250203T094823Z
UID:4136-1744416000-1744502399@tsi.uni-obuda.hu
SUMMARY:Fallabda Magyar Egyetemi-Főiskolai Országos Bajnokság
DESCRIPTION:Versenyinformációk: https://mefs.hu/esemeny/fallabda-mefob-2025/ \nNevezés és információk hamarosan…
URL:https://tsi.uni-obuda.hu/event/fallabda-magyar-egyetemi-foiskolai-orszagos-bajnoksag/
LOCATION:CITY SQUASH CLUB 1022. Budapest\, Marczibányi tér 13. (20/9831444)
END:VEVENT
BEGIN:VEVENT
DTSTART;VALUE=DATE:20250412
DTEND;VALUE=DATE:20250414
DTSTAMP:20260420T033315
CREATED:20250203T095007Z
LAST-MODIFIED:20250203T095007Z
UID:4140-1744416000-1744588799@tsi.uni-obuda.hu
SUMMARY:Telekom Vivicittá futóverseny
DESCRIPTION:Jelentkezés hamarosan…. \n 
URL:https://tsi.uni-obuda.hu/event/telekom-vivicitta-futoverseny/
LOCATION:Margitsziget
END:VEVENT
END:VCALENDAR