BEGIN:VCALENDAR
VERSION:2.0
PRODID:-//Testnevelési és Sport Intézet - ECPv6.5.0.1//NONSGML v1.0//EN
CALSCALE:GREGORIAN
METHOD:PUBLISH
X-WR-CALNAME:Testnevelési és Sport Intézet
X-ORIGINAL-URL:https://tsi.uni-obuda.hu
X-WR-CALDESC:Events for Testnevelési és Sport Intézet
REFRESH-INTERVAL;VALUE=DURATION:PT1H
X-Robots-Tag:noindex
X-PUBLISHED-TTL:PT1H
BEGIN:VTIMEZONE
TZID:Europe/Budapest
BEGIN:DAYLIGHT
TZOFFSETFROM:+0100
TZOFFSETTO:+0200
TZNAME:CEST
DTSTART:20250330T010000
END:DAYLIGHT
BEGIN:STANDARD
TZOFFSETFROM:+0200
TZOFFSETTO:+0100
TZNAME:CET
DTSTART:20251026T010000
END:STANDARD
END:VTIMEZONE
BEGIN:VEVENT
DTSTART;VALUE=DATE:20250506
DTEND;VALUE=DATE:20250507
DTSTAMP:20260420T020506
CREATED:20250203T095317Z
LAST-MODIFIED:20250423T111606Z
UID:4148-1746489600-1746575999@tsi.uni-obuda.hu
SUMMARY:Egyetemi Sportnap - ÓE
DESCRIPTION:Egyetemi Sportnap – 2025. május 6.!\n\nA sportnap nem csak egy nagyszerű lehetőség arra\, hogy kiszakadj a hétköznapokból\, hanem arra is\, hogy új lendületet adj egészségednek: feltölt energiával\, javítja a fizikai erőnléted\, oldja a stresszt\, és igazi élménnyé teszi a mozgást!\nGyere el az idei sportnapra\, ahol izgalmas versenyekkel\, látványos bemutatókkal és kihívásokkal várunk mindenkit!\n Versenyszámok (regisztráció szükséges):•  Labdarúgás (5+1 fős csapatok\, max. 10 fő/csapat) legfeljebb 12 csapat.• Streetball bajnokság (3 fős csapatok)•  Strandröplabda (4 fős csapatok\, max 5 fő / csapat\, min. 1 nő/csapat) A csapatos röplabdaversenyt követően külön páros röplabda versenyre is indul\, így akár mindkettőre is lehet nevezni!•  Tenisz (egyéni verseny)•  Futás (2000 méter)•  Asztalitenisz•  Szkander•  Fekvenyomás\n Regisztráció: https://forms.office.com/e/QSD3Hg9c0F\n\n Bemutatók és kihívások (Ezen felül több fakultatív programmal is várunk titeket\, melyek nem regisztrációhoz kötöttek): Kempó •  Buhurt •  E-sport •  Íjászat •  Ergométer (verseny is lehetséges) •  Hosszúkard •  Capoeira •  Flag/Amerikai foci •  Tollaslabda •  Focilabda\n Különleges kihívások:•  Teqball•  Pannaball•  Sakk•  Falmászás•  Geocaching\n Team Rekreáció extra programjai: Céllabda • Angry Birds csúzli • Bagjump • Pannaball Aréna • Darts Foci • XXL csocsó • Csocsó • Zorb • Rekesztorony építés • Sumo • Petanque • Ülőfoci • Cornhole\n A részvétellel testnevelés órákat is igazolhatsz! Levelezős hallgatóknak akár a teljes féléves teljesítményt kiválthatja.A részvétel ingyenes\, öltözőt biztosítunk!\nTalálkozzunk május 6-án!A szervezők a programváltozás jogát fenntartják.
URL:https://tsi.uni-obuda.hu/event/egyetemi-sportnap-oe/
LOCATION:1117 Budapest Bogdánfy utca 12 (BME sporttelep)
END:VEVENT
BEGIN:VEVENT
DTSTART;VALUE=DATE:20250506
DTEND;VALUE=DATE:20250507
DTSTAMP:20260420T020506
CREATED:20250423T110339Z
LAST-MODIFIED:20250423T110339Z
UID:4499-1746489600-1746575999@tsi.uni-obuda.hu
SUMMARY:MEFOB FESZT: SAKK MEFOB
DESCRIPTION:Részletek: https://mefs.hu/esemeny/sakk-mefob-2025/
URL:https://tsi.uni-obuda.hu/event/mefob-feszt-sakk-mefob/
LOCATION:Magyar Testnevelési és Sporttudományi Egyetem Dr. Koltai Jenő Sportközpont atlétika pálya 1123 Budapest\, Csörsz u. 2-4.
END:VEVENT
BEGIN:VEVENT
DTSTART;VALUE=DATE:20250506
DTEND;VALUE=DATE:20250507
DTSTAMP:20260420T020506
CREATED:20250423T110454Z
LAST-MODIFIED:20250423T110454Z
UID:4501-1746489600-1746575999@tsi.uni-obuda.hu
SUMMARY:Szkander Egyetemi Kupa
DESCRIPTION:részletek: https://mefs.hu/esemeny/szkander-egyetemi-kupa-2025/
URL:https://tsi.uni-obuda.hu/event/szkander-egyetemi-kupa/
LOCATION:Dr. Koltai Jenő Sportközpont\, Aula 1123 Budapest\, Csörsz utca 2-4.
END:VEVENT
END:VCALENDAR