BEGIN:VCALENDAR
VERSION:2.0
PRODID:-//Testnevelési és Sport Intézet - ECPv6.5.0.1//NONSGML v1.0//EN
CALSCALE:GREGORIAN
METHOD:PUBLISH
X-WR-CALNAME:Testnevelési és Sport Intézet
X-ORIGINAL-URL:https://tsi.uni-obuda.hu
X-WR-CALDESC:Events for Testnevelési és Sport Intézet
REFRESH-INTERVAL;VALUE=DURATION:PT1H
X-Robots-Tag:noindex
X-PUBLISHED-TTL:PT1H
BEGIN:VTIMEZONE
TZID:Europe/Budapest
BEGIN:DAYLIGHT
TZOFFSETFROM:+0100
TZOFFSETTO:+0200
TZNAME:CEST
DTSTART:20250330T010000
END:DAYLIGHT
BEGIN:STANDARD
TZOFFSETFROM:+0200
TZOFFSETTO:+0100
TZNAME:CET
DTSTART:20251026T010000
END:STANDARD
END:VTIMEZONE
BEGIN:VEVENT
DTSTART;TZID=Europe/Budapest:20250514T080000
DTEND;TZID=Europe/Budapest:20250515T150000
DTSTAMP:20260420T020503
CREATED:20250423T111414Z
LAST-MODIFIED:20250514T072337Z
UID:4527-1747209600-1747321200@tsi.uni-obuda.hu
SUMMARY:Fekvenyomó Házibajnokság
DESCRIPTION:Jelentkezni és érdeklődni: Hönig Lászlónál\, a honig.laszlo@uni-obuda.hu email címen
URL:https://tsi.uni-obuda.hu/event/fekvenyomo-hazibajnoksag-2/
LOCATION:Budapest\,  Tavaszmző utca 17./C Tornaterem
END:VEVENT
BEGIN:VEVENT
DTSTART;TZID=Europe/Budapest:20250515T153000
DTEND;TZID=Europe/Budapest:20250515T170000
DTSTAMP:20260420T020503
CREATED:20250423T111252Z
LAST-MODIFIED:20250423T111252Z
UID:4524-1747323000-1747328400@tsi.uni-obuda.hu
SUMMARY:Kosárlabda Házibajnokság
DESCRIPTION:Időpont: 2025. május 15. csütörtök 15:30 – 19:00 \nHelyszín: 1084 Budapest\, Tavaszmező utca 17. \, Tavaszmező utca tornaterem/ kinti pálya  \nInformációk:\n– 4 fős csapatok\, fiú és vegyes kategóriában csapatonként maximum 1 fő nem Óbudais hallgató szerepelhet vegyes csapatnál a hölgy tag nem lehet külsős!\n– Érvényes diákigazolvány bemutatása kötelező\, a külsős részéről is! \nNappali tagozatos hallgatóknak 2 db testnevelés alkalmat jelent\, levelezősöknek a félév teljesítését.\nA dobogós helyezettek érmes díjazásban részesülnek. \nHallgatók és tanárok/oktatók jelentkezését egyaránt várjuk! \nJelentkezés: az űrlap kitöltésével és/vagy Őri Gergelynél az ori.gergely@uni-obuda.hu email címen \nhttps://forms.office.com/e/x7BCAKmA45
URL:https://tsi.uni-obuda.hu/event/kosarlabda-hazibajnoksag/
LOCATION:1084 Budapest\, Tavaszmező utca 17. \, Tavaszmező utca tornaterem/ kinti pálya
END:VEVENT
END:VCALENDAR