BEGIN:VCALENDAR
VERSION:2.0
PRODID:-//Testnevelési és Sport Intézet - ECPv6.5.0.1//NONSGML v1.0//EN
CALSCALE:GREGORIAN
METHOD:PUBLISH
X-WR-CALNAME:Testnevelési és Sport Intézet
X-ORIGINAL-URL:https://tsi.uni-obuda.hu
X-WR-CALDESC:Events for Testnevelési és Sport Intézet
REFRESH-INTERVAL;VALUE=DURATION:PT1H
X-Robots-Tag:noindex
X-PUBLISHED-TTL:PT1H
BEGIN:VTIMEZONE
TZID:Europe/Budapest
BEGIN:DAYLIGHT
TZOFFSETFROM:+0100
TZOFFSETTO:+0200
TZNAME:CEST
DTSTART:20250330T010000
END:DAYLIGHT
BEGIN:STANDARD
TZOFFSETFROM:+0200
TZOFFSETTO:+0100
TZNAME:CET
DTSTART:20251026T010000
END:STANDARD
END:VTIMEZONE
BEGIN:VEVENT
DTSTART;VALUE=DATE:20250530
DTEND;VALUE=DATE:20250531
DTSTAMP:20260420T003512
CREATED:20250423T111043Z
LAST-MODIFIED:20250423T111043Z
UID:4519-1748563200-1748649599@tsi.uni-obuda.hu
SUMMARY:Vívó MEFOB
DESCRIPTION:RÉSZLETEK: https://mefs.hu/esemeny/vivo-mefob-2025/
URL:https://tsi.uni-obuda.hu/event/vivo-mefob/
LOCATION:BOK Csarnok légfegyveres lőtere\, 1146 Budapest\, Dózsa György út 1-3.
END:VEVENT
BEGIN:VEVENT
DTSTART;VALUE=DATE:20250530
DTEND;VALUE=DATE:20250531
DTSTAMP:20260420T003512
CREATED:20250521T085104Z
LAST-MODIFIED:20250521T085104Z
UID:4614-1748563200-1748649599@tsi.uni-obuda.hu
SUMMARY:MEFS-EFOTT DARTS CLUB I. ORSZÁGOS EGYETEMI-FŐISKOLAI AMATŐR DARTS CSAPATVERSENY – 2025
DESCRIPTION:Bővebb információk: https://mefs.hu/esemeny/mefs-efott-darts-club-i-orszagos-egyetemi-foiskolai-amator-darts-csapatverseny-2025/
URL:https://tsi.uni-obuda.hu/event/mefs-efott-darts-club-i-orszagos-egyetemi-foiskolai-amator-darts-csapatverseny-2025/
LOCATION:Sukoró
END:VEVENT
END:VCALENDAR