BEGIN:VCALENDAR
VERSION:2.0
PRODID:-//Testnevelési és Sport Intézet - ECPv6.5.0.1//NONSGML v1.0//EN
CALSCALE:GREGORIAN
METHOD:PUBLISH
X-ORIGINAL-URL:https://tsi.uni-obuda.hu
X-WR-CALDESC:Events for Testnevelési és Sport Intézet
REFRESH-INTERVAL;VALUE=DURATION:PT1H
X-Robots-Tag:noindex
X-PUBLISHED-TTL:PT1H
BEGIN:VTIMEZONE
TZID:Europe/Budapest
BEGIN:DAYLIGHT
TZOFFSETFROM:+0100
TZOFFSETTO:+0200
TZNAME:CEST
DTSTART:20250330T010000
END:DAYLIGHT
BEGIN:STANDARD
TZOFFSETFROM:+0200
TZOFFSETTO:+0100
TZNAME:CET
DTSTART:20251026T010000
END:STANDARD
END:VTIMEZONE
BEGIN:VEVENT
DTSTART;TZID=Europe/Budapest:20251009T080000
DTEND;TZID=Europe/Budapest:20251009T103000
DTSTAMP:20260419T150014
CREATED:20251006T104447Z
LAST-MODIFIED:20251006T104447Z
UID:4963-1759996800-1760005800@tsi.uni-obuda.hu
SUMMARY:ERGOMÉTERES Házibajnokság
DESCRIPTION:Kedves Hallgatók!\n\n\n2025. október 9. csütörtökön ergométeres házibajnokságot szervezünk 8 órától.\nHelyszín: Budapest Evezős Egyesület\, Népsziget\nIdőpont: 2025. október 9. csütörtök 8:00 órától\nJelentkezni Bahor Zsolt testnevelő tanárnál\, a bahor.zsolt@uni-obuda.hu email címen.\n\n\nNappali tagozatos hallgatóknak 2 db testnevelés alkalmat jelent\, levelezősöknek a félév teljesítését. A dobogós helyezettek érmes díjazásban részesülnek.\n\n\nVárjuk a jelentkezőket!
URL:https://tsi.uni-obuda.hu/event/ergometeres-hazibajnoksag-2/
END:VEVENT
END:VCALENDAR