BEGIN:VCALENDAR
VERSION:2.0
PRODID:-//Testnevelési és Sport Intézet - ECPv6.5.0.1//NONSGML v1.0//EN
CALSCALE:GREGORIAN
METHOD:PUBLISH
X-ORIGINAL-URL:https://tsi.uni-obuda.hu
X-WR-CALDESC:Events for Testnevelési és Sport Intézet
REFRESH-INTERVAL;VALUE=DURATION:PT1H
X-Robots-Tag:noindex
X-PUBLISHED-TTL:PT1H
BEGIN:VTIMEZONE
TZID:Europe/Budapest
BEGIN:DAYLIGHT
TZOFFSETFROM:+0100
TZOFFSETTO:+0200
TZNAME:CEST
DTSTART:20250330T010000
END:DAYLIGHT
BEGIN:STANDARD
TZOFFSETFROM:+0200
TZOFFSETTO:+0100
TZNAME:CET
DTSTART:20251026T010000
END:STANDARD
END:VTIMEZONE
BEGIN:VEVENT
DTSTART;VALUE=DATE:20251011
DTEND;VALUE=DATE:20251013
DTSTAMP:20260419T150015
CREATED:20250821T093611Z
LAST-MODIFIED:20250827T070959Z
UID:4852-1760140800-1760313599@tsi.uni-obuda.hu
SUMMARY:40. Budapest SPAR Maraton futóverseny
DESCRIPTION:Elindult a jelentkezés a mára már hagyománnyá vált SPAR Maraton futóversenyére! \nIdén az első 150 hallgató és munkavállaló díjmentesen jelentkezhet az Óbudai Egyetem jóvoltából! \nA verseny időpontja: 2025. október 11- 12. ( szombat– vasárnap) \nA verseny helyszíne: Pázmány Péter Sétány \nTöbb táv közül választhatsz\, a séta távoktól egészen a maratonig. \nJelentkezni itt tudsz október 3. (péntek)-ig illetve a szabad helyek erejéig: \nhttps://forms.office.com/e/231uRSnyhg \nKérdésed van? Írj erre az email címre: toth.mikolt@uni-obuda.hu \nJelentkezz és fussunk együtt! \nFotó forrása: Budapesti Sportiroda
URL:https://tsi.uni-obuda.hu/event/40-budapest-spar-maraton-futoverseny/
LOCATION:Budapest
END:VEVENT
END:VCALENDAR