BEGIN:VCALENDAR
VERSION:2.0
PRODID:-//Testnevelési és Sport Intézet - ECPv6.5.0.1//NONSGML v1.0//EN
CALSCALE:GREGORIAN
METHOD:PUBLISH
X-WR-CALNAME:Testnevelési és Sport Intézet
X-ORIGINAL-URL:https://tsi.uni-obuda.hu
X-WR-CALDESC:Events for Testnevelési és Sport Intézet
REFRESH-INTERVAL;VALUE=DURATION:PT1H
X-Robots-Tag:noindex
X-PUBLISHED-TTL:PT1H
BEGIN:VTIMEZONE
TZID:Europe/Budapest
BEGIN:DAYLIGHT
TZOFFSETFROM:+0100
TZOFFSETTO:+0200
TZNAME:CEST
DTSTART:20250330T010000
END:DAYLIGHT
BEGIN:STANDARD
TZOFFSETFROM:+0200
TZOFFSETTO:+0100
TZNAME:CET
DTSTART:20251026T010000
END:STANDARD
END:VTIMEZONE
BEGIN:VEVENT
DTSTART;TZID=Europe/Budapest:20251019T090000
DTEND;TZID=Europe/Budapest:20251019T123000
DTSTAMP:20260419T145900
CREATED:20251007T091900Z
LAST-MODIFIED:20251007T091900Z
UID:4975-1760864400-1760877000@tsi.uni-obuda.hu
SUMMARY:ÓE-KANDÓ SC TÚRA
DESCRIPTION:2025.október 19.-én vasárnap az ÓE Kandó SC megszervezi idei első őszi túráját. \n\n\n\nA túra indulási helyszíne a 22-es autóbuszmegállónál lesz\, Szépjuhásznénál.\n\n\nIndulás 9:00 órakor. \n\n\nA túra kb. 8\,5 km hosszú\, 300 méter szintemelkedéssel. Az útvonal a Szépjuhásznétól indul\, a Hárs-hegyen\, Hűvösvölgyön és az Árpád kilátón át vezet a 11-es busz végállomásához.\n\n\nA túrát Török Áron túravezető fogja tartani. \n\n\nA túra díja külsősöknek 2000 Ft\, Kandó SC tagoknak 1000 Ft. \n\n\n(A befizetés utalással történik)\, Erről további információkat a forms-ban találtok.\n\n\n\nNappalis hallgatóknak 2 db testnevelés alkalmat\, míg a levelezősöknek a félévet írjuk a túrával jóvá. \n\n\n\nJelentkezni az alábbi felületen lehet\, 2025. október 17. péntekig:\n\n\nhttps://forms.cloud.microsoft/e/5y9Bv9tPhZ\n\n\n\nKérdés esetén keressék Blázsovics Ádámot\, a blazsovics.adam@uni-obuda.hu email címen\, vagy Tóth Mikoltot\, a toth.mikolt@uni-obuda.hu email címen. \n\n\nMinden túrázni vágyót várunk szeretettel!
URL:https://tsi.uni-obuda.hu/event/oe-kando-sc-tura/
LOCATION:Szépjuhászné Budapest
END:VEVENT
END:VCALENDAR