BEGIN:VCALENDAR
VERSION:2.0
PRODID:-//Testnevelési és Sport Intézet - ECPv6.5.0.1//NONSGML v1.0//EN
CALSCALE:GREGORIAN
METHOD:PUBLISH
X-ORIGINAL-URL:https://tsi.uni-obuda.hu
X-WR-CALDESC:Events for Testnevelési és Sport Intézet
REFRESH-INTERVAL;VALUE=DURATION:PT1H
X-Robots-Tag:noindex
X-PUBLISHED-TTL:PT1H
BEGIN:VTIMEZONE
TZID:Europe/Budapest
BEGIN:DAYLIGHT
TZOFFSETFROM:+0100
TZOFFSETTO:+0200
TZNAME:CEST
DTSTART:20250330T010000
END:DAYLIGHT
BEGIN:STANDARD
TZOFFSETFROM:+0200
TZOFFSETTO:+0100
TZNAME:CET
DTSTART:20251026T010000
END:STANDARD
END:VTIMEZONE
BEGIN:VEVENT
DTSTART;VALUE=DATE:20251020
DTEND;VALUE=DATE:20251021
DTSTAMP:20260419T145948
CREATED:20250910T102143Z
LAST-MODIFIED:20251010T082056Z
UID:4922-1760918400-1761004799@tsi.uni-obuda.hu
SUMMARY:Földharc BEFS bajnokság
DESCRIPTION:Helye: NKE RTK Oktatási Kollégium\, 1. emelet\, Kondicionális és Küzdősport terem. 1089 Budapest\, Diószegi Sámuel utca 38-42.\nIdeje: 2025. október 20. (hétfő) 17:00 – 20:00. 17:00-tól mérlegelés\, 17:30-tól szabályismertetés\, küzdelmek\nSúlycsoportok: férfi 60\, 66\, 73\, 81\, 90\,100\, +100kg\, női 52\,57\,63\,70\,+70kg \nNevezési határidő: 2025. október 14. (kedd) 12:00 \nNEVEZÉS: https://forms.cloud.microsoft/e/PTkMGm2Yz8 \nNappalis hallgatóknak  testnevelés alkalmakat\, levelezős/estis hallgatóknak a félév teljesítést jelenti a versenyen való részvétel!\nA versenyről bővebb tájékoztatást a jelentkezés leadása utána adunk. \nHa bármilyen kérdés felmerülne\, keresse Tóth Mikolt sportszervezőt az alábbi elérhetőségen: toth.mikolt@uni-obuda.hu
URL:https://tsi.uni-obuda.hu/event/foldharc-befs-bajnoksag/
LOCATION:NKE Ludovika Aréna Budapest
END:VEVENT
END:VCALENDAR