BEGIN:VCALENDAR
VERSION:2.0
PRODID:-//Testnevelési és Sport Intézet - ECPv6.5.0.1//NONSGML v1.0//EN
CALSCALE:GREGORIAN
METHOD:PUBLISH
X-WR-CALNAME:Testnevelési és Sport Intézet
X-ORIGINAL-URL:https://tsi.uni-obuda.hu
X-WR-CALDESC:Events for Testnevelési és Sport Intézet
REFRESH-INTERVAL;VALUE=DURATION:PT1H
X-Robots-Tag:noindex
X-PUBLISHED-TTL:PT1H
BEGIN:VTIMEZONE
TZID:Europe/Budapest
BEGIN:DAYLIGHT
TZOFFSETFROM:+0100
TZOFFSETTO:+0200
TZNAME:CEST
DTSTART:20240331T010000
END:DAYLIGHT
BEGIN:STANDARD
TZOFFSETFROM:+0200
TZOFFSETTO:+0100
TZNAME:CET
DTSTART:20241027T010000
END:STANDARD
END:VTIMEZONE
BEGIN:VEVENT
DTSTART;TZID=Europe/Budapest:20241107T080000
DTEND;TZID=Europe/Budapest:20241107T170000
DTSTAMP:20260420T092225
CREATED:20241008T081450Z
LAST-MODIFIED:20241008T081450Z
UID:2254-1730966400-1730998800@tsi.uni-obuda.hu
SUMMARY:Csörgőlabda Magyar Egyetemi - Főiskolai Országos Bajnokság
DESCRIPTION:Versenykiírás és bővebb információk: https://mefs.hu/esemeny/csorgolabda-mefob-2024/ \nJelentkezni Hiervarter Ákosnál\, a hiervarter.akos@uni-obuda.hu email címen. \n 
URL:https://tsi.uni-obuda.hu/event/csorgolabda-magyar-egyetemi-foiskolai-orszagos-bajnoksag/
LOCATION:BME Sportközpont (1111 Budapest\, Bertalan Lajos u. 4-6.)
END:VEVENT
BEGIN:VEVENT
DTSTART;TZID=Europe/Budapest:20241111T150000
DTEND;TZID=Europe/Budapest:20241111T183000
DTSTAMP:20260420T092225
CREATED:20241021T090205Z
LAST-MODIFIED:20241021T090205Z
UID:2314-1731337200-1731349800@tsi.uni-obuda.hu
SUMMARY:Röplabda házibajnokság
DESCRIPTION:Időpont: 2024.  november 11. hétfő 15:00 – 18:00 \nHelyszín: 1084 Budapest\, Tavaszmező utca 17. \, Tavaszmező utca tornaterem \nInformációk:\n– 6-6 elleni vegyes röplabda\, 2 lánynak a pályán kell lennie\n– Érvényes diákigazolvány bemutatása kötelező\, a külsős részéről is!\n– Maximum 6 csapat nevezését tudjuk elfogadni! \nNevezési határidő: 2024. november 8 péntek \nNEVEZÉSI FELÜLET: https://forms.office.com/e/jd4PR8vvDe \nNappali tagozatos hallgatóknak 2 db testnevelés alkalmat jelent\, levelezősöknek a félév teljesítését.\nA dobogós helyezettek érmes díjazásban részesülnek. \nHallgatók és tanárok/oktatók jelentkezését egyaránt várjuk! \nJelentkezés: az űrlap kitöltésével és/vagy Kleczli Csabánál a kleczli.csaba@uni-obuda.hu email címen
URL:https://tsi.uni-obuda.hu/event/roplabda-hazibajnoksag/
LOCATION:Budapest\,  Tavaszmző utca 17./C Tornaterem
END:VEVENT
BEGIN:VEVENT
DTSTART;TZID=Europe/Budapest:20241116T080000
DTEND;TZID=Europe/Budapest:20241116T170000
DTSTAMP:20260420T092225
CREATED:20241021T090359Z
LAST-MODIFIED:20241021T090359Z
UID:2317-1731744000-1731776400@tsi.uni-obuda.hu
SUMMARY:Asztalitenisz Budapest Bajnokság
DESCRIPTION:Részletek és nevezés hamarosan…
URL:https://tsi.uni-obuda.hu/event/asztalitenisz-budapest-bajnoksag/
LOCATION:High Life Sportközpont
END:VEVENT
BEGIN:VEVENT
DTSTART;TZID=Europe/Budapest:20241116T100000
DTEND;TZID=Europe/Budapest:20241116T170000
DTSTAMP:20260420T092225
CREATED:20241028T121941Z
LAST-MODIFIED:20241028T121941Z
UID:2428-1731751200-1731776400@tsi.uni-obuda.hu
SUMMARY:MEZEI FUTÓ MAGYAR BAJNOKSÁG ÉS MEZEI FUTÓ MEFOB
DESCRIPTION:A verseny rendezője:  A Magyar Atlétikai Szövetség megbízásából a MATE – Gödöllői Egyetemi Atlétikai Club. \nA verseny célja: A 2024. évi mezei futó bajnoki címek eldöntése. A Mezei Futó Magyar Liga versenysorozat idei utolsó állomásaként pontok gyűjtése. \nA verseny helyszíne:  Gödöllői Királyi Kastélypark\, 2100 Gödöllő\, Grassalkovich-kastély 5852 \nA verseny időpontja:  2024.11.16. szombat 10:00 \nA MEFOB résztvevői a https://nevezes.mefob.hu/verseny/mefob-2024-2025- mezei-futo-mefob-2024 oldalon tudnak nevezni 2024.11.11. hétfőig. \nA MEFOB résztvevői számára 2000 Ft\, fizetése díjbekérő ellenében előre utalással. \nVersenykiírás: https://mefs.hu/esemeny/mezei-futo-mefob-2024/ \n 
URL:https://tsi.uni-obuda.hu/event/mezei-futo-magyar-bajnoksag-es-mezei-futo-mefob/
LOCATION:Gödöllői Királyi Kastélypark\, 2100 Gödöllő\, Grassalkovich-kastély 5852
END:VEVENT
BEGIN:VEVENT
DTSTART;TZID=Europe/Budapest:20241116T103000
DTEND;TZID=Europe/Budapest:20241116T143000
DTSTAMP:20260420T092225
CREATED:20241114T103801Z
LAST-MODIFIED:20241114T103801Z
UID:3892-1731753000-1731767400@tsi.uni-obuda.hu
SUMMARY:MIX és Női BEFS Universitas Röplabda Bajnokság
DESCRIPTION:10:30 Óbudai Egyetem UNI Női – Metropolitan Egyetem UNI női \n12:00 Óbudai Egyetem UNI Mix – Metropolitan Egyetem UNI Mix A
URL:https://tsi.uni-obuda.hu/event/mix-es-noi-befs-universitas-roplabda-bajnoksag/
LOCATION:Budapest\,  Tavaszmző utca 17./C Tornaterem
END:VEVENT
BEGIN:VEVENT
DTSTART;TZID=Europe/Budapest:20241118T200000
DTEND;TZID=Europe/Budapest:20241118T200000
DTSTAMP:20260420T092225
CREATED:20241115T074457Z
LAST-MODIFIED:20241115T074527Z
UID:3907-1731960000-1731960000@tsi.uni-obuda.hu
SUMMARY:Óbudai Egyetem-Kandó SC - Közgáz SC és DSK korárlabda mérkőzés
DESCRIPTION:2024. november 18. hétfő 19:50\nHelyszín: Lónyay utcai református gimnázium
URL:https://tsi.uni-obuda.hu/event/obudai-egyetem-kando-sc-kozgaz-sc-es-dsk-korarlabda-merkozes/
LOCATION:Budapest\, Kinizsi u. 1-7\, 1092
END:VEVENT
BEGIN:VEVENT
DTSTART;TZID=Europe/Budapest:20241123T090000
DTEND;TZID=Europe/Budapest:20241123T143000
DTSTAMP:20260420T092225
CREATED:20241114T102827Z
LAST-MODIFIED:20241114T104021Z
UID:3888-1732352400-1732372200@tsi.uni-obuda.hu
SUMMARY:Férfi és Női BEFS Universitas Röplabda Bajnokság
DESCRIPTION:Mérkőzések: \n9:00 Óbudai Egyetem UNI Férfi – Pázmány Péter Katolikus Egyetem UNI Férfi \n12:00 Corvinus UNI Férfi – Óbudai Egyetem UNI Férfi \n14:00 Óbudai Egyetem UNI Női – BGE UNI Női
URL:https://tsi.uni-obuda.hu/event/ferfi-befs-universitas-roplabda-bajnoksag/
LOCATION:Budapest\,  Tavaszmző utca 17./C Tornaterem
END:VEVENT
BEGIN:VEVENT
DTSTART;TZID=Europe/Budapest:20241124T110000
DTEND;TZID=Europe/Budapest:20241124T170000
DTSTAMP:20260420T092225
CREATED:20241021T090620Z
LAST-MODIFIED:20241021T090620Z
UID:2320-1732446000-1732467600@tsi.uni-obuda.hu
SUMMARY:Judo Magyar Egyetemi - Főiskolai Országos Bajnokság
DESCRIPTION:A verseny időpontja: 2024. november 24. (vasárnap)\n Mérlegelés: 9:00 – 10:00-ig\nKezdés: 11:00 órakor\nHelyszín: Nemzeti Közszolgálati Egyetem\, Ludovika Aréna\, 1089 Budapest\, Diószegi Sámuel utca 23. \nJelentkezési határidő: 2024. november 15. péntek 13:00 óra  \nNevezni az alábbi linken keresztül lehet: https://forms.office.com/e/jkzEHvHRnY\n\nVersenykiírás az alábbi linken olvasható:\nhttps://mefs.hu/esemeny/judo-mefob-2024/\n\nIndulási feltételek:\nA kategóriában – profi: Diákigazolvány (hiánya esetén 1 hónapnál nem régebbi hallgatói jogviszony igazolás)\, neptun kód\, valamint sportorvosi vagy háziorvosi\, iskolaorvosi engedély. 2.\nB kategóriában – amatőr: Neptun kód és diákigazolvány (hiánya esetén egy hónapnál nem régebbi hallgatói jogviszony igazolás) \nA regisztrációs díjat az egyetem fedezi. Aki még nem rendelkezik egyetemi logóval ellátott pólóval\, azt is biztosítunk az indulók számára. \nNappalis hallgatóknak testnevelés alkalmakat\, levelezős/estis hallgatóknak a félév teljesítést jelenti a versenyen való részvétel! \nHa bármilyen kérdés felmerülne\, kérjük keresse Tóth Mikolt sportszervezőt az alábbi elérhetőségen:\ntoth.mikolt@uni-obuda.hu
URL:https://tsi.uni-obuda.hu/event/judo-magyar-egyetemi-foiskolai-orszagos-bajnoksag/
LOCATION:Ludovika Aréna\, 1089 Budapest\, Diószegi Sámuel utca 23.
END:VEVENT
BEGIN:VEVENT
DTSTART;TZID=Europe/Budapest:20241125T200000
DTEND;TZID=Europe/Budapest:20241125T200000
DTSTAMP:20260420T092225
CREATED:20241115T074706Z
LAST-MODIFIED:20241115T074721Z
UID:3910-1732564800-1732564800@tsi.uni-obuda.hu
SUMMARY:ELTE BEAC - Óbudai Egyetem -Kandó SC  kosárlabda mérkőzés
DESCRIPTION:2024. november 25. hétfő 20:15\nHelyszín: ELTE Sporttelep 3. pálya
URL:https://tsi.uni-obuda.hu/event/elte-beac-obudai-egyetem-kando-sc-kosarlabda-merkozes/
LOCATION:ELTE Sporttelep 3. pálya
END:VEVENT
BEGIN:VEVENT
DTSTART;TZID=Europe/Budapest:20241127T090000
DTEND;TZID=Europe/Budapest:20241127T170000
DTSTAMP:20260420T092225
CREATED:20241021T090821Z
LAST-MODIFIED:20241021T090821Z
UID:2323-1732698000-1732726800@tsi.uni-obuda.hu
SUMMARY:Egyetemi Curling Kupa
DESCRIPTION:Bővebb tájékoztatás: https://mefs.hu/esemeny/egyetemi-curling-kupa-2024/ \nIndulási szándék jelzése: Hiervarter Ákosnál\, a hiervarter.akos@uni-obuda.hu email címen lehet. \n 
URL:https://tsi.uni-obuda.hu/event/egyetemi-curling-kupa/
LOCATION:Győri Jégsport Központ  9027 Győr\, Nagysándor József utca 52.
END:VEVENT
BEGIN:VEVENT
DTSTART;TZID=Europe/Budapest:20241127T100000
DTEND;TZID=Europe/Budapest:20241128T153000
DTSTAMP:20260420T092225
CREATED:20241021T091201Z
LAST-MODIFIED:20241021T091201Z
UID:2326-1732701600-1732807800@tsi.uni-obuda.hu
SUMMARY:Fekvenyomó házibajnokság
DESCRIPTION:Időpont: 2024. november 27.-28. szerda – csütörtök 10:00-től 15:00 óráig.\nHelyszín: Óbudai Egyetem\, Tavaszmező u. Konditerem\, 1084 Tavaszmező utca 17. C. Fsz. \nSúlycsoport nincs\, a verseny testsúlyarányos.\nHallgatók és dolgozók jelentkezését is várjuk. \nJelentkezni:  a helyszínen illetve Hönig Lászlónál\, a honig.laszlo@uni-obuda.hu email címen lehetséges. \n 
URL:https://tsi.uni-obuda.hu/event/fekvenyomo-hazibajnoksag/
LOCATION:Óbudai Egyetem\, Tavaszmező u. Konditerem\, 1084 Tavaszmező utca 17. C. Fsz.
END:VEVENT
BEGIN:VEVENT
DTSTART;TZID=Europe/Budapest:20241128T080000
DTEND;TZID=Europe/Budapest:20241128T170000
DTSTAMP:20260420T092225
CREATED:20241111T113439Z
LAST-MODIFIED:20241111T113439Z
UID:3878-1732780800-1732813200@tsi.uni-obuda.hu
SUMMARY:Ergométeres Házibajnokság
DESCRIPTION:2024. november 28-án megrendezésre kerül Ergométeres Házibajnokságunk. \nHelyszín: Budapesti Evezős Egyesület\nIdőpont: 2024. november 28. csütörtök 8 óra\nTáv: 1000 méter \nAmennyiben ezen az alkalmon nem tud megjelenni\, de szívesen kipróbálná magát\, akkor 2024. december 2-án 17 órától van lehetősége részt venni ugyan ezen a helyszínen. \nJelentkezni és érdeklődni: Bahor Zsoltnál\, a bahor.zsolt@uni-obuda.hu email címen. \n 
URL:https://tsi.uni-obuda.hu/event/ergometeres-hazibajnoksag/
LOCATION:Budapesti Evezős Egyeület
END:VEVENT
BEGIN:VEVENT
DTSTART;VALUE=DATE:20241129
DTEND;VALUE=DATE:20241201
DTSTAMP:20260420T092225
CREATED:20240616T205652Z
LAST-MODIFIED:20240616T205652Z
UID:391-1732838400-1733011199@tsi.uni-obuda.hu
SUMMARY:MFSN Sportnap
DESCRIPTION:
URL:https://tsi.uni-obuda.hu/event/mfsn-sportnap/
END:VEVENT
BEGIN:VEVENT
DTSTART;TZID=Europe/Budapest:20241130T080000
DTEND;TZID=Europe/Budapest:20241130T170000
DTSTAMP:20260420T092225
CREATED:20241021T091307Z
LAST-MODIFIED:20241021T091307Z
UID:2330-1732953600-1732986000@tsi.uni-obuda.hu
SUMMARY:Tollaslabda Budapest Bajnokság
DESCRIPTION:Részletek és nevezés hamarosan…
URL:https://tsi.uni-obuda.hu/event/tollaslabda-budapest-bajnoksag/
LOCATION:KMASZC Budapest
END:VEVENT
END:VCALENDAR