BEGIN:VCALENDAR
VERSION:2.0
PRODID:-//Testnevelési és Sport Intézet - ECPv6.5.0.1//NONSGML v1.0//EN
CALSCALE:GREGORIAN
METHOD:PUBLISH
X-ORIGINAL-URL:https://tsi.uni-obuda.hu
X-WR-CALDESC:Events for Testnevelési és Sport Intézet
REFRESH-INTERVAL;VALUE=DURATION:PT1H
X-Robots-Tag:noindex
X-PUBLISHED-TTL:PT1H
BEGIN:VTIMEZONE
TZID:Europe/Budapest
BEGIN:DAYLIGHT
TZOFFSETFROM:+0100
TZOFFSETTO:+0200
TZNAME:CEST
DTSTART:20250330T010000
END:DAYLIGHT
BEGIN:STANDARD
TZOFFSETFROM:+0200
TZOFFSETTO:+0100
TZNAME:CET
DTSTART:20251026T010000
END:STANDARD
END:VTIMEZONE
BEGIN:VEVENT
DTSTART;TZID=Europe/Budapest:20250116T190000
DTEND;TZID=Europe/Budapest:20250116T210000
DTSTAMP:20260420T063654
CREATED:20241114T105946Z
LAST-MODIFIED:20241114T105946Z
UID:3900-1737054000-1737061200@tsi.uni-obuda.hu
SUMMARY:MIX BEFS Universitas Röplabda Bajnokság
DESCRIPTION:19:00 BGE Külker UNI Mix – Óbudai Egyetem UNI Mix
URL:https://tsi.uni-obuda.hu/event/mix-befs-universitas-roplabda-bajnoksag/
LOCATION:BGE Tornaterem Dióssy Lajos utca\, Dióssy Lajos utca 22-24.\, Budapest\, 1165\, Magyarország
END:VEVENT
BEGIN:VEVENT
DTSTART;TZID=Europe/Budapest:20250118T100000
DTEND;TZID=Europe/Budapest:20250118T120000
DTSTAMP:20260420T063654
CREATED:20241114T110251Z
LAST-MODIFIED:20241114T110251Z
UID:3903-1737194400-1737201600@tsi.uni-obuda.hu
SUMMARY:MIX BEFS Universitas Röplabda Bajnokság
DESCRIPTION:10:00 Óbudai Egyetem UNI Mix – BGE PSZK UNI Mix
URL:https://tsi.uni-obuda.hu/event/mix-befs-universitas-roplabda-bajnoksag-2/
LOCATION:Budapest\,  Tavaszmző utca 17./C Tornaterem
END:VEVENT
BEGIN:VEVENT
DTSTART;TZID=Europe/Budapest:20250128T180000
DTEND;TZID=Europe/Budapest:20250128T203000
DTSTAMP:20260420T063654
CREATED:20241115T075106Z
LAST-MODIFIED:20241115T075110Z
UID:3913-1738087200-1738096200@tsi.uni-obuda.hu
SUMMARY:Óbudai Egyetem-Kandó SC  - VESC
DESCRIPTION:2025. január 28. kedd 18:15\nHelyszín: Lónyay Utcai Református Gimnázium
URL:https://tsi.uni-obuda.hu/event/obudai-egyetem-kando-sc-vesc/
LOCATION:Budapest\, Kinizsi u. 1-7\, 1092
END:VEVENT
END:VCALENDAR