BEGIN:VCALENDAR
VERSION:2.0
PRODID:-//Testnevelési és Sport Intézet - ECPv6.5.0.1//NONSGML v1.0//EN
CALSCALE:GREGORIAN
METHOD:PUBLISH
X-WR-CALNAME:Testnevelési és Sport Intézet
X-ORIGINAL-URL:https://tsi.uni-obuda.hu
X-WR-CALDESC:Events for Testnevelési és Sport Intézet
REFRESH-INTERVAL;VALUE=DURATION:PT1H
X-Robots-Tag:noindex
X-PUBLISHED-TTL:PT1H
BEGIN:VTIMEZONE
TZID:Europe/Budapest
BEGIN:DAYLIGHT
TZOFFSETFROM:+0100
TZOFFSETTO:+0200
TZNAME:CEST
DTSTART:20250330T010000
END:DAYLIGHT
BEGIN:STANDARD
TZOFFSETFROM:+0200
TZOFFSETTO:+0100
TZNAME:CET
DTSTART:20251026T010000
END:STANDARD
END:VTIMEZONE
BEGIN:VEVENT
DTSTART;VALUE=DATE:20250621
DTEND;VALUE=DATE:20250623
DTSTAMP:20260419T231631
CREATED:20250530T070021Z
LAST-MODIFIED:20250530T070021Z
UID:4634-1750464000-1750636799@tsi.uni-obuda.hu
SUMMARY:Strandsportok napja
DESCRIPTION:I. Strandsportok Napja 2025\n\nIdőpont: 2025. június 21–22.Helyszín: Lupa BeachSzervező: Jövő Magyar Sportolói SE\nMozogj velünk a Lupa Beachen! Két napon át várnak izgalmas versenyek\, edzések\, bemutatók és közösségi programok a homokos parton!\nProgramok:• Utánpótlás strandvízilabda• Serdülő (06.21.)• Gyermek (06.22.)• Felnőtt amatőr strandvízilabda Open (06.22.)• USL strandvizilabda DÖNTŐK (06.21.)• Teqball Universitas férfi/női (06.21.)• TEQVOLY Open férfi/női (06.21.)• Strandröplabda(https://www.hunvolley.info/pr_a/500/105/p_105.asp…)• A kategória férfi/női páros (06.21-22.)• Amatőr férfi/női páros (06.22.)• Amatőr vegyes páros (06.21.)• Universitas vegyes négyes (06.22.)• Beach Body Open (06.21.)• Zumba -zenés\, energikus edzés mindenkinek! (2 x másfél óra) (06.21.)\nAkár versenyeznél\, akár csak mozognál vagy esetleg csak strandolnál:) itt a helyed!\nHozd magaddal a barátaidat\, családodat\, és élvezzétek a sportos nyári hangulatot!\nVersenykiírások és nevezési lapok: https://drive.google.com/…/1GF3EFW…\nNEVEZÉSI HATÁRIDŐ: 2025. JÚNIUS 15.\, 24:00\nTovábbi információk: jmse@jmse.hu\nA nevezéseket sorrendben dolgozzuk fel a nevezési lap és a nevezési díj beérkezésekor!\nNevezési díjak: • Utánpótlás strandvizilabda (gyermek \, serdülő) 40000Ft/csapatminimum 5 max 15 fő• Felnőtt amatőr strandvizilabda Open 40000Ft/csapatminimum 5 max 15 fő• USL strandvizilabdavizilabda DÖNTŐK • Teqball Universitas 2fő 20000Ft/csapat• TEQVOLY Open 2fő 20000Ft/csapat• Strandröplabda Open 2fő 5000Ft/fő/versenyszám• Strandröplabda A kategória 2fő 10000Ft/fő\n• Beach Body Open• Zumba -zenés\, energikus edzés mindenkinek! (2 x másfél óra)\nTámogatóink és partnereink:• LG Electronics – aranyfokozatú támogató• HM EI Zrt.• Marathontime• Török Pincészet\n• Magyar Egyetemi Főiskolai Sportszövetség• Magyar Röplabda Szövetség• Magyar Teqball Szövetség• Magyar Vízilabda Szövetség• Nemzetközi Asztali Röplabda Szövetség\n#vizilabda #waterpolo #strandvizilabda #beachwaterpolo #volleyball #röplabda #beachvolleyball #strandröplabda #teqball #TEQVOLY #zumba #nyár #summer #Lupa #Lupabeach #egyetemisport #egyetem #university #college
URL:https://tsi.uni-obuda.hu/event/strandsportok-napja/
LOCATION:Lupa Beach
END:VEVENT
END:VCALENDAR