BEGIN:VCALENDAR
VERSION:2.0
PRODID:-//Testnevelési és Sport Intézet - ECPv6.5.0.1//NONSGML v1.0//EN
CALSCALE:GREGORIAN
METHOD:PUBLISH
X-ORIGINAL-URL:https://tsi.uni-obuda.hu
X-WR-CALDESC:Events for Testnevelési és Sport Intézet
REFRESH-INTERVAL;VALUE=DURATION:PT1H
X-Robots-Tag:noindex
X-PUBLISHED-TTL:PT1H
BEGIN:VTIMEZONE
TZID:Europe/Budapest
BEGIN:DAYLIGHT
TZOFFSETFROM:+0100
TZOFFSETTO:+0200
TZNAME:CEST
DTSTART:20250330T010000
END:DAYLIGHT
BEGIN:STANDARD
TZOFFSETFROM:+0200
TZOFFSETTO:+0100
TZNAME:CET
DTSTART:20251026T010000
END:STANDARD
END:VTIMEZONE
BEGIN:VEVENT
DTSTART;VALUE=DATE:20250822
DTEND;VALUE=DATE:20250826
DTSTAMP:20260419T172704
CREATED:20250603T071258Z
LAST-MODIFIED:20250603T071258Z
UID:4655-1755820800-1756166399@tsi.uni-obuda.hu
SUMMARY:Küzdősportok EEB
DESCRIPTION:Bővebb információk: https://mefs.hu/esemeny/kuzdosport-judo-karate-kick-box-taekwondo-eeb/
URL:https://tsi.uni-obuda.hu/event/kuzdosportok-eeb/
LOCATION:Varsó\, Lengyelország
END:VEVENT
END:VCALENDAR