BEGIN:VCALENDAR
VERSION:2.0
PRODID:-//Testnevelési és Sport Intézet - ECPv6.5.0.1//NONSGML v1.0//EN
CALSCALE:GREGORIAN
METHOD:PUBLISH
X-WR-CALNAME:Testnevelési és Sport Intézet
X-ORIGINAL-URL:https://tsi.uni-obuda.hu
X-WR-CALDESC:Events for Testnevelési és Sport Intézet
REFRESH-INTERVAL;VALUE=DURATION:PT1H
X-Robots-Tag:noindex
X-PUBLISHED-TTL:PT1H
BEGIN:VTIMEZONE
TZID:Europe/Budapest
BEGIN:DAYLIGHT
TZOFFSETFROM:+0100
TZOFFSETTO:+0200
TZNAME:CEST
DTSTART:20250330T010000
END:DAYLIGHT
BEGIN:STANDARD
TZOFFSETFROM:+0200
TZOFFSETTO:+0100
TZNAME:CET
DTSTART:20251026T010000
END:STANDARD
END:VTIMEZONE
BEGIN:VEVENT
DTSTART;VALUE=DATE:20250920
DTEND;VALUE=DATE:20250921
DTSTAMP:20260419T145916
CREATED:20250910T101907Z
LAST-MODIFIED:20250910T101907Z
UID:4919-1758326400-1758412799@tsi.uni-obuda.hu
SUMMARY:Félmaraton MEFOB
DESCRIPTION:A Magyar Egyetemi – Főiskolai Sportszövetség 2025. szeptember  20-án szombaton Félmaraton Egyetemi Bajnokságot rendez\, amire ezúton szeretnénk meghívni. \nHelyszín: MATE Sportcsarnok\, 2100 Gödöllő\, Páter Károly út 1. \, Gödöllő \nIdőpont:  2025. 09. 20. szombat 9:30 \nNevezés folyamata:\nVersenyzők nevezése  a MEFS felületén lehetséges\, az alábbi linken: https://nevezes.mefob.hu/verseny/mefob-2025-2026-felmaraton-mefob-2025 \namennyiben még nincsen beregisztrálva a MEFS rendszerébe úgy előtte https://nevezes.mefob.hu/hallgatoi-regisztracio ezen a linken ezt tegye meg\, utána tud nevezni. \nHatáridő: 2025.09.17. 12:00 óra szerda \nKÉREM HA BENEVEZETT JELEZZE FELÉM (toth.mikolt@uni-obuda.hu)VAGY HIERVARTER ÁKOSNAK (hirvarter.akos@uni-obuda.hu)\, HOGY TUDJUK\, HOGY ELINDUL A VERSENYEN. Várom visszajelzését.  \n Minden fontos információt megtalál az alábbi linken:\nhttps://mefs.hu/esemeny/felmaraton-mefob-2025/ \nA Testnevelés és Sportintézet a regisztrációs díjat fedezi\, Önnek ezzel nincsen dolga.  Azoknak az indulóknak\, akiknek még nincsen\, Óbudai Egyetem logójával ellátott pólót is biztosítunk. \nNappalis hallgatóknak minimum 5 db testnevelés alkalmat\, levelezős/estis hallgatóknak a félév teljesítést jelenti a versenyen való részvétel! \nJelentkezés: Tóth Mikoltnál\, a toth.mikolt@uni-obuda.hu címen. \nJelentkezni legkésőbb 2025. szeptember 17. (szerda) lehet.
URL:https://tsi.uni-obuda.hu/event/felmaraton-mefob/
LOCATION:MATE Sportcsarnok\, 2100 Gödöllő\, Páter Károly út 1. \, Gödöllő
END:VEVENT
BEGIN:VEVENT
DTSTART;TZID=Europe/Budapest:20250924T150000
DTEND;TZID=Europe/Budapest:20250924T220000
DTSTAMP:20260419T145916
CREATED:20250630T083455Z
LAST-MODIFIED:20250829T063843Z
UID:4735-1758726000-1758751200@tsi.uni-obuda.hu
SUMMARY:Spinning nap - ÓE
DESCRIPTION:Gyere és tekerj velünk egy fergeteges délutánon és estén\, ahol a sport\, a zene és a közösség élménye találkozik! \n Programblokkok:• 15:00 –15:50 Pop & Feel GoodKezdjünk egy könnyed\, vidám edzéssel\, amely garantáltan feldobja a hangulatodat!• 16:20 –17:10 Rock RideEngedd szabadjára a benned rejlő rock sztárt és tekerj a legnagyobb rock klasszikusokra!• 17:40 – 18:30 Latin HeatForró latin ritmusokra tekerünk végig\, amely biztosan megdolgoztatja a lábad!• 19:00 – 19:45 Electro Power RideLépj be az elektronikus zene világába és tapasztald meg az energia áradatát!• 20:15 – 21:00 Party Finale Zárjuk a napot egy igazi bulihangulattal!\n Köztes szünetekben: frissítők\, DJ\, közösségi játékok és kihívások!\nJELENTKEZÉShttps://forms.office.com/e/w1RCSCLdsg Az esemény létszámlimites\, az első 375 fő jelentkezését fogjuk tudni elfogadni. Jelentkezési határidő: 2025. szeptember 22. hétfő 12:00 óra vagy amíg szabad helyeink vannak\n Kiknek szól?Az Óbudai Egyetem hallgatóinak\, oktatóinak és munkatársainak!\n Részvételi információk:• A részvétel ingyenes\, de előzetes regisztrációhoz kötött.• Egy személy max. 2 blokkra jelentkezhet.• Az aktív részvételért blokkonként 2 db testnevelés alkalom kapható\, tehát ha 1 blokkot csinálsz végig 2 db alkalom\, ha 2 db blokkot sportolsz végig 4 db testnevelés alkalmat fogunk jóvá írni.\n Profi hang- és fénytechnika\, energikus zenék\, közösségi élmény!\nJELENTKEZÉShttps://forms.office.com/e/w1RCSCLdsgAz esemény létszámlimites\, az első 375 fő jelentkezését fogjuk tudni elfogadni. Jelentkezési határidő: 2025. szeptember 22. hétfő 12:00 óra vagy amíg szabad helyeink vannak
URL:https://tsi.uni-obuda.hu/event/spinning-nap-oe/
LOCATION:Budapest Bécsi út
END:VEVENT
BEGIN:VEVENT
DTSTART;VALUE=DATE:20250927
DTEND;VALUE=DATE:20250928
DTSTAMP:20260419T145916
CREATED:20250910T101728Z
LAST-MODIFIED:20250910T101728Z
UID:4916-1758931200-1759017599@tsi.uni-obuda.hu
SUMMARY:Tenisz BEFS kupa
DESCRIPTION:Időpont: 2025.09.27. (szombat) \nHelyszín: 1111 Budapest\, Bogdánfy utca 12.  (BME Sporttelep) \nPálya: 5 db salakos pálya \nKategóriák: Profi női egyéni (magyar felnőtt ranglistán első 150-ben szerepel) \nProfi férfi egyéni (magyar felnőtt ranglistán első 150-ben szerepel) \nAmatőr női egyéni \nAmatőr férfi egyéni \nNői páros \n        Férfi páros \nNevezési határidő: 2025.09.25. (csütörtök) \nJelentkezni Tóth Mikoltnál\, a toth.mikolt@uni-obuda.hu email címen\, vagy Bahor Zsoltnál\, a bahor.zsolt@uni-obuda.hu email címen. \n 
URL:https://tsi.uni-obuda.hu/event/tenisz-befs-kupa/
LOCATION:1111 Budapest\, Bogdánfy utca 12.  (BME Sporttelep)
END:VEVENT
END:VCALENDAR