BEGIN:VCALENDAR
VERSION:2.0
PRODID:-//Testnevelési és Sport Intézet - ECPv6.5.0.1//NONSGML v1.0//EN
CALSCALE:GREGORIAN
METHOD:PUBLISH
X-ORIGINAL-URL:https://tsi.uni-obuda.hu
X-WR-CALDESC:Events for Testnevelési és Sport Intézet
REFRESH-INTERVAL;VALUE=DURATION:PT1H
X-Robots-Tag:noindex
X-PUBLISHED-TTL:PT1H
BEGIN:VTIMEZONE
TZID:Europe/Budapest
BEGIN:DAYLIGHT
TZOFFSETFROM:+0100
TZOFFSETTO:+0200
TZNAME:CEST
DTSTART:20240331T010000
END:DAYLIGHT
BEGIN:STANDARD
TZOFFSETFROM:+0200
TZOFFSETTO:+0100
TZNAME:CET
DTSTART:20241027T010000
END:STANDARD
END:VTIMEZONE
BEGIN:VEVENT
DTSTART;TZID=Europe/Budapest:20241116T080000
DTEND;TZID=Europe/Budapest:20241116T170000
DTSTAMP:20260419T213200
CREATED:20241021T090359Z
LAST-MODIFIED:20241021T090359Z
UID:2317-1731744000-1731776400@tsi.uni-obuda.hu
SUMMARY:Asztalitenisz Budapest Bajnokság
DESCRIPTION:Részletek és nevezés hamarosan…
URL:https://tsi.uni-obuda.hu/event/asztalitenisz-budapest-bajnoksag/
LOCATION:High Life Sportközpont
END:VEVENT
BEGIN:VEVENT
DTSTART;TZID=Europe/Budapest:20241111T150000
DTEND;TZID=Europe/Budapest:20241111T183000
DTSTAMP:20260419T213200
CREATED:20241021T090205Z
LAST-MODIFIED:20241021T090205Z
UID:2314-1731337200-1731349800@tsi.uni-obuda.hu
SUMMARY:Röplabda házibajnokság
DESCRIPTION:Időpont: 2024.  november 11. hétfő 15:00 – 18:00 \nHelyszín: 1084 Budapest\, Tavaszmező utca 17. \, Tavaszmező utca tornaterem \nInformációk:\n– 6-6 elleni vegyes röplabda\, 2 lánynak a pályán kell lennie\n– Érvényes diákigazolvány bemutatása kötelező\, a külsős részéről is!\n– Maximum 6 csapat nevezését tudjuk elfogadni! \nNevezési határidő: 2024. november 8 péntek \nNEVEZÉSI FELÜLET: https://forms.office.com/e/jd4PR8vvDe \nNappali tagozatos hallgatóknak 2 db testnevelés alkalmat jelent\, levelezősöknek a félév teljesítését.\nA dobogós helyezettek érmes díjazásban részesülnek. \nHallgatók és tanárok/oktatók jelentkezését egyaránt várjuk! \nJelentkezés: az űrlap kitöltésével és/vagy Kleczli Csabánál a kleczli.csaba@uni-obuda.hu email címen
URL:https://tsi.uni-obuda.hu/event/roplabda-hazibajnoksag/
LOCATION:Budapest\,  Tavaszmző utca 17./C Tornaterem
END:VEVENT
BEGIN:VEVENT
DTSTART;TZID=Europe/Budapest:20241107T080000
DTEND;TZID=Europe/Budapest:20241107T170000
DTSTAMP:20260419T213200
CREATED:20241008T081450Z
LAST-MODIFIED:20241008T081450Z
UID:2254-1730966400-1730998800@tsi.uni-obuda.hu
SUMMARY:Csörgőlabda Magyar Egyetemi - Főiskolai Országos Bajnokság
DESCRIPTION:Versenykiírás és bővebb információk: https://mefs.hu/esemeny/csorgolabda-mefob-2024/ \nJelentkezni Hiervarter Ákosnál\, a hiervarter.akos@uni-obuda.hu email címen. \n 
URL:https://tsi.uni-obuda.hu/event/csorgolabda-magyar-egyetemi-foiskolai-orszagos-bajnoksag/
LOCATION:BME Sportközpont (1111 Budapest\, Bertalan Lajos u. 4-6.)
END:VEVENT
BEGIN:VEVENT
DTSTART;TZID=Europe/Budapest:20241030T080000
DTEND;TZID=Europe/Budapest:20241030T170000
DTSTAMP:20260419T213200
CREATED:20241002T084941Z
LAST-MODIFIED:20241007T085128Z
UID:2233-1730275200-1730307600@tsi.uni-obuda.hu
SUMMARY:Földharc verseny - Budapest Bajnokság
DESCRIPTION:Versenyinformációk:\nHelye: NKE RTK Oktatási Kollégium\, 1. emelet\, Kondicionális és Küzdősport terem. \n1089 Budapest\, Diószegi Sámuel utca 38-42. \nIdeje: 2024. október 30. (szerda) 17:00 – 20:00. 17:00-tól mérlegelés\, 17:30-tól szabályismertetés\, küzdelmek. \nRésztvevők: budapesti egyetemi hallgatók. Csak egészséges\, tünetmentes hallgatók vehetnek részt az eseményen. Orvosi igazolás nem szükséges\, de az esetleges sérülésekért a szervezők felelősséget nem vállalnak. Minden induló saját felelősségre vesz részt az eseményen. \nSúlycsoportok: férfi 60\, 66\, 73\, 81\, 90\,100\, +100kg\, női 52\,57\,63\,70\,+70kg \nA súlycsoportok változtatásának  jogát fenntartjuk a jelentkezők létszámának\, súlyának figyelembe vételével. \nFelszerelés: NO GI küzdelmek\, ennek megfelelő sportruházat. Védőfelszerelés igény esetén (pl. fogvédő\, protector) használható. Fémet nem viselhetnek a versenyzők (pl. hajcsat) \nSzabályok \nKüzdelmi idő: 5 perc \nGyőzelem: leszorítás 20sec vagy az ellenfél feladásra kényszerítése fojtással\, karfeszítéssel\, leszorítással\, térd vagy bokaízület feszítéssel. \nTiltott technikák: minden gerincre\, nyakra irányuló feszítő vagy csavaró mozdulat! \nBüntetések: enyhe szabálytalanság miatt vagy passzivitásért szóbeli figyelmeztetés\, durva szabálytalanság esetén azonnali kizárás. \nDíjazás: 1-3. helyezett érem\, legtechnikásabb férfi és női versenyző különdíjban részesül. \nAz öltözőkben hagyott értékekért a szervezők felelősséget nem vállalnak. \n  \nNevezési felület: https://forms.office.com/e/PTkMGm2Yz8\n  \n 
URL:https://tsi.uni-obuda.hu/event/foldharc-verseny-budapest-bajnoksag/
LOCATION:NKE Ludovika Aréna Budapest
END:VEVENT
BEGIN:VEVENT
DTSTART;TZID=Europe/Budapest:20241026T080000
DTEND;TZID=Europe/Budapest:20241027T170000
DTSTAMP:20260419T213200
CREATED:20241007T092428Z
LAST-MODIFIED:20241007T092428Z
UID:2247-1729929600-1730048400@tsi.uni-obuda.hu
SUMMARY:Tenisz - Magyar Egyetemi - Főiskolai Országos Bajnokság
DESCRIPTION:Versenykiírás: https://mefs.hu/esemeny/tenisz-mefob-2024/\nJelentkezni Hiervarter Ákosnál\, a hiervarter.akos@uni-obuda.hu email címen.
URL:https://tsi.uni-obuda.hu/event/tenisz-magyar-egyetemi-foiskolai-orszagos-bajnoksag/
LOCATION:3515 Miskolc\, Egyetemváros – Miskolci Egyetem Teniszcentrum
END:VEVENT
BEGIN:VEVENT
DTSTART;TZID=Europe/Budapest:20241019T090000
DTEND;TZID=Europe/Budapest:20241020T170000
DTSTAMP:20260419T213200
CREATED:20240926T085343Z
LAST-MODIFIED:20240926T085417Z
UID:2187-1729328400-1729443600@tsi.uni-obuda.hu
SUMMARY:RÓKAŰZŐK váltófutóverseny
DESCRIPTION:2024. október 19. szombat- on Rókaűzők MEFOB-ot ( Magyar Egyetemi- Főiskolai Bajnoságot) rendeznek Kaposváron.\n\n\nVárjuk hallgatóink jelentkezését  a versenyre! A regisztrációs díj mellett az egyetem az egyéb költségeket is fedezi. \n\nA verseny időpontja: 2024. október 19. szombat\, rajt: 9:00\nA verseny helyszíne: Szigetvár – Kaposvár\, a Zselicen át\, csodálatos helyeken\, aszfaltozott úton\, Somogyapáti\, Somogyhárságy\, Zselici Csillagpark\, Zselickisfalud\, Szilvásszentmárton\,  Patca\, Bárdudvarnok\, Bánya\, Szenna\, Kaposszerdahely érintésével.\nJelentkezési határidő: 2024. október 11. péntek 14:00 óra\n\nVersenykiírás az alábbi linken olvasható:\nhttps://mefs.hu/esemeny/rokauzok-valtofuto-mefob-2024/\n\nJelentkezés az alábbi linken:https://forms.office.com/e/KJUWS19pHK\nAki még nem rendelkezik egyetemi logóval ellátott pólóval\, azt is biztosítunk az indulók számára.\nNappalis hallgatóknak távtól függően testnevelés alkalmat\, levelezős/estis hallgatóknak a félév teljesítést jelenti a versenyen való részvétel\n\nHa bármilyen kérdés felmerülne\, keresse Tóth Mikolt sportszervezőt az alábbi elérhetőségen: toth.mikolt@uni-obuda.hu
URL:https://tsi.uni-obuda.hu/event/rokauzok-valtofutoverseny/
END:VEVENT
BEGIN:VEVENT
DTSTART;TZID=Europe/Budapest:20241019T080000
DTEND;TZID=Europe/Budapest:20241019T170000
DTSTAMP:20260419T213200
CREATED:20241002T085058Z
LAST-MODIFIED:20241007T084840Z
UID:2236-1729324800-1729357200@tsi.uni-obuda.hu
SUMMARY:Fitness és testépítő - Magyar Egyetemi és Főiskolai Országos Bajnokság
DESCRIPTION:Versenykiírás: https://mefs.hu/esemeny/fitness-es-testepito-mefob-2024/\nRészvételi szándékot kérem Tóth Mikoltnál jelezze az alábbi email címre: toth.mikolt@uni-obuda.hu
URL:https://tsi.uni-obuda.hu/event/fitness-es-testepito-magyar-egyetemi-es-foiskolai-orszagos-bajnoksag/
LOCATION:UP Rendezvénytér (1042 Budapest\, Szent István tér 13-14.)
END:VEVENT
BEGIN:VEVENT
DTSTART;VALUE=DATE:20241019
DTEND;VALUE=DATE:20241020
DTSTAMP:20260419T213200
CREATED:20240616T205621Z
LAST-MODIFIED:20240917T090819Z
UID:389-1729296000-1729382399@tsi.uni-obuda.hu
SUMMARY:Egyetemi Túranap
DESCRIPTION:Természet\, kaland\, közösség – ezek várnak rád az Óbudai Egyetem túranapján! \nSzeretettel meghívunk egy felejthetetlen túranapra\, ahol nemcsak a fizikai aktivitás\, hanem a mentális felfrissülés is garantált.\nAz útvonal változatos\, így mind a kezdők\, mind a tapasztalt túrázók megtalálják a számukra megfelelő kihívást.\n\nÉld át a kaland örömét az Óbudai Egyetem túranapján! Csatlakozz hozzánk október 19-én:\n Távok és indulási időpontok:– 7 km: 9:30-10:30 közötti időszakban (A legkésőbbi visszaérkezés 13:30)Szint emelkedés: 303 m\n– 11 km: 9:00-10:00 közötti időszakban (A legkésőbbi visszaérkezés 14:00)Szint emelkedés: 434 m\n– 14 km: 8:30-9:30 közötti időszakban (A legkésőbbi visszaérkezés 14:30)Szint emelkedés: 543 m\n\n Jegyárak:\n\n– Előnevezés Óbudai Egyetem polgárai\, óbudai lakosok: 1500 Ft„Külsősök”: 2500 Ft\n– Helyszíni nevezésÓbudai Egyetem polgárai\, óbudai lakosok: 2000 Ft„Külsősök”: 3000 Ft\nA részvételhez jelentkezz minél előbb\, hiszen az első 100 jelentkező különleges rajtcsomagot kap!\n\n Jelentkezés: https://jegy.oenonprofit.hu/\nTalálkozzunk a túranapon! Természet\, Kaland\, Közösség – várunk téged is!
URL:https://tsi.uni-obuda.hu/event/egyetemi-turanap/
END:VEVENT
BEGIN:VEVENT
DTSTART;VALUE=DATE:20241012
DTEND;VALUE=DATE:20241014
DTSTAMP:20260419T213200
CREATED:20240616T205539Z
LAST-MODIFIED:20240918T113334Z
UID:387-1728691200-1728863999@tsi.uni-obuda.hu
SUMMARY:SPAR Maraton futóverseny
DESCRIPTION:Az Óbudai Egyetem vezetősége számára is kiemelten fontos az egészséges életmód és a rendszeres sportra való buzdítás munkatársaink és hallgatóink körében is. \nAz Óbudai Egyetem munkatársai és hallgatói közül az első 100 jelentkező idén is díjmentesen vehet részt a 2024. október 12-13-án megrendezésre kerülő 39. SPAR Budapest Maraton Fesztiválon.\nAz alábbi versenyszámokra várjuk az egyetem polgárainak nevezését: \nOktóber 12-én (szombaton) \n\nRiska Minimaraton 5 km\nSPAR 10 km\nSPAR 10+5 km\nSPAR városi túra 4 távon:      s – 6\,5 km\nm – 10\,5 km\nl – 13\,5 km\nxl – 21\,5 km\n\n\nSPAR 14+5 km\nSPAR 14+10 km\nSPAR Maratonka 2\,3 km\n\nOktóber 13-án (vasárnap): \n\nSPAR Budapest Maraton\nSPAR 30 km\nSPAR félmaraton\nSPAR 14 km\nSPAR 14+5 km\nSPAR 14+10 km\n\nJelentkezni az ingyenes részvételért az alábbi linken 2024. október 6-án\, vasárnap éjfélig (23:59) lehet: https://forms.office.com/e/231uRSnyhg?origin=lprLink \nBővebb információ kérhető a toth.mikolt@uni-obuda.hu és a hiervarter.akos@uni-obuda.hu e-mail-címen. \nHAJRÁ\, ÓE!
URL:https://tsi.uni-obuda.hu/event/spar-maraton-futoverseny/
END:VEVENT
BEGIN:VEVENT
DTSTART;VALUE=DATE:20241012
DTEND;VALUE=DATE:20241014
DTSTAMP:20260419T213200
CREATED:20240911T095009Z
LAST-MODIFIED:20240911T095159Z
UID:1739-1728691200-1728863999@tsi.uni-obuda.hu
SUMMARY:Floorball - Magyar Egyetemi-Főiskolai Országos Bajnokság
DESCRIPTION:
URL:https://tsi.uni-obuda.hu/event/floorball-magyar-egyetemi-foiskolai-orszagos-bajnoksag/
LOCATION:Budapest\, Angyalföldi Sportözpont
END:VEVENT
BEGIN:VEVENT
DTSTART;TZID=Europe/Budapest:20241006T100000
DTEND;TZID=Europe/Budapest:20241006T170000
DTSTAMP:20260419T213200
CREATED:20241002T084821Z
LAST-MODIFIED:20241002T084847Z
UID:2228-1728208800-1728234000@tsi.uni-obuda.hu
SUMMARY:Sakkverseny - Budapest Bajnokság
DESCRIPTION:
URL:https://tsi.uni-obuda.hu/event/sakk-verseny_budapest-bajnoksag/
LOCATION:Budapesti Sportszövetségek Székháza\, 1053 Budapest\, Curia u.3.
END:VEVENT
BEGIN:VEVENT
DTSTART;TZID=Europe/Budapest:20241005T080000
DTEND;TZID=Europe/Budapest:20241005T170000
DTSTAMP:20260419T213200
CREATED:20241002T085315Z
LAST-MODIFIED:20241002T085315Z
UID:2239-1728115200-1728147600@tsi.uni-obuda.hu
SUMMARY:BEFS Universitas Tenisz Kupa
DESCRIPTION:
URL:https://tsi.uni-obuda.hu/event/befs-universitas-tenisz-kupa/
LOCATION:1117 Budapest Bogdánfy utca 12 (BME sporttelep)
END:VEVENT
BEGIN:VEVENT
DTSTART;VALUE=DATE:20240928
DTEND;VALUE=DATE:20240929
DTSTAMP:20260419T213200
CREATED:20240903T111556Z
LAST-MODIFIED:20240903T113645Z
UID:1551-1727481600-1727567999@tsi.uni-obuda.hu
SUMMARY:Félmaraton\, maraton - Magyar Egyetemi - Főiskolai Országos Bajnokság
DESCRIPTION:2024. szeptember 28. szombat- on Maraton és Félmaraton MEFOB-ot ( Magyar Egyetemi- Főiskolai Bajnoságot) rendeznek Kaposváron.\n\nVárjuk hallgatóink jelentkezését  a versenyre! A regisztrációs díj mellett az egyetem az egyéb költségeket is fedezi.\n\nHelyszín: 7400 Kaposvár\, Kaposvár Aréna\, Arany János utca 97. \nJelentkezési határidő: 2024. szeptember 12. csütörtök 14:00 óra\n\nVersenykiírás az alábbi linken olvasható:\nhttps://mefs.hu/esemeny/felmaraton-maraton-mefob-2024/ \n\n\nJelentkezés az alábbi linken: https://forms.office.com/e/zGvndkhsCt\nAki még nem rendelkezik egyetemi logóval ellátott pólóval\, azt is biztosítunk\naz indulók számára.\nNappalis hallgatóknak távtól függően testnevelés alkalmat\, levelezős/estis hallgatóknak a félév teljesítést jelenti a versenyen való részvétel\n\nHa bármilyen kérdés felmerülne\, keresse Tóth Mikolt sportszervezőt az alábbi elérhetőségen: toth.mikolt@uni-obuda.hu
URL:https://tsi.uni-obuda.hu/event/felmaraton-maraton-magyar-egyetemi-foiskolai-orszagos-bajnoksag/
LOCATION:Kaposvár Aréna\, 7400 Kaposvár Arany János utca 97.
END:VEVENT
BEGIN:VEVENT
DTSTART;VALUE=DATE:20240920
DTEND;VALUE=DATE:20241001
DTSTAMP:20260419T213200
CREATED:20240616T205442Z
LAST-MODIFIED:20240918T113057Z
UID:383-1726790400-1727740799@tsi.uni-obuda.hu
SUMMARY:#BeActive_Európai Egyetemi Sporthét  Házibajnokságok
DESCRIPTION:  \nAz Egyetemi Sport hete 2024. szeptember 23.-30- között kerül megrendezésre\, országszerte. \nEbben az eseménysorozatban egyetemünk is részt vesz. Idén ennek a hétnek az égisze alatt több házibajnokságot is szervezünk. Ezekre a bajnokságokra várjuk minden lelkes hallgatónk jelentkezését. \n2024. szeptember 24. kedd – Asztalitenisz házibajnokság\nbővebb információk és  jelentkezés: https://forms.office.com/e/viDQ2ZzvHD \n2024. szeptember 25. szerda – Kispályás Labdarúgó házibajnokság\nbővebb információk és jelentkezés: https://forms.office.com/e/7EdnuX59Qj \n2024. szeptember 26. csütörtök – Húzódzkodás házibajnokság\nbővebb információk és jelentkezés: https://forms.office.com/e/BWe4ndppdX \n2024. szeptember 26. csütörtök – Futóverseny\nbővebb információk és jelentkezés: https://forms.office.com/e/GLvM2iXdrk  \n2024. szeptember 26. csütörtök – 3×3-as kosárlabda\nbővebb információk és jelentkezés: https://forms.office.com/e/x7BCAKmA45
URL:https://tsi.uni-obuda.hu/event/egyetemi-sport-vilagnapja/
LOCATION:Budapest
END:VEVENT
BEGIN:VEVENT
DTSTART;VALUE=DATE:20240708
DTEND;VALUE=DATE:20240726
DTSTAMP:20260419T213200
CREATED:20240616T205309Z
LAST-MODIFIED:20240616T205309Z
UID:381-1720396800-1721951999@tsi.uni-obuda.hu
SUMMARY:EUSA - European University Sports Association
DESCRIPTION:
URL:https://tsi.uni-obuda.hu/event/eusa-european-university-sports-association/
END:VEVENT
END:VCALENDAR