BEGIN:VCALENDAR
VERSION:2.0
PRODID:-//Testnevelési és Sport Intézet - ECPv6.5.0.1//NONSGML v1.0//EN
CALSCALE:GREGORIAN
METHOD:PUBLISH
X-ORIGINAL-URL:https://tsi.uni-obuda.hu
X-WR-CALDESC:Events for Testnevelési és Sport Intézet
REFRESH-INTERVAL;VALUE=DURATION:PT1H
X-Robots-Tag:noindex
X-PUBLISHED-TTL:PT1H
BEGIN:VTIMEZONE
TZID:Europe/Budapest
BEGIN:DAYLIGHT
TZOFFSETFROM:+0100
TZOFFSETTO:+0200
TZNAME:CEST
DTSTART:20240331T010000
END:DAYLIGHT
BEGIN:STANDARD
TZOFFSETFROM:+0200
TZOFFSETTO:+0100
TZNAME:CET
DTSTART:20241027T010000
END:STANDARD
BEGIN:DAYLIGHT
TZOFFSETFROM:+0100
TZOFFSETTO:+0200
TZNAME:CEST
DTSTART:20250330T010000
END:DAYLIGHT
BEGIN:STANDARD
TZOFFSETFROM:+0200
TZOFFSETTO:+0100
TZNAME:CET
DTSTART:20251026T010000
END:STANDARD
END:VTIMEZONE
BEGIN:VEVENT
DTSTART;VALUE=DATE:20250510
DTEND;VALUE=DATE:20250511
DTSTAMP:20260419T150243
CREATED:20250423T110715Z
LAST-MODIFIED:20250423T110715Z
UID:4507-1746835200-1746921599@tsi.uni-obuda.hu
SUMMARY:Birkózó MEFOB
DESCRIPTION:RÉSZLETEK: https://mefs.hu/esemeny/birkozo-mefob-2025/
URL:https://tsi.uni-obuda.hu/event/birkozo-mefob/
LOCATION:Kozma István Magyar Birkózó Akadémia 1213 Budapest\, Hollandi út. 8.
END:VEVENT
BEGIN:VEVENT
DTSTART;VALUE=DATE:20250507
DTEND;VALUE=DATE:20250508
DTSTAMP:20260419T150243
CREATED:20250423T110555Z
LAST-MODIFIED:20250423T110555Z
UID:4504-1746576000-1746662399@tsi.uni-obuda.hu
SUMMARY:MEFOB FESZT: ERGOMÉTER MEFOB
DESCRIPTION:részletek: https://mefs.hu/esemeny/evezos-ergometeres-mefob-2025-2-mefob-feszt/
URL:https://tsi.uni-obuda.hu/event/mefob-feszt-ergometer-mefob/
LOCATION:Magyar Testnevelési és Sportudományi Egyetem (TF)\, Dr. Koltai Jenő Sportközpont / Multifunkcionális csarnok (Budapest\, 1123\, Csörsz utca 2-10)
END:VEVENT
BEGIN:VEVENT
DTSTART;VALUE=DATE:20250506
DTEND;VALUE=DATE:20250507
DTSTAMP:20260419T150243
CREATED:20250423T110454Z
LAST-MODIFIED:20250423T110454Z
UID:4501-1746489600-1746575999@tsi.uni-obuda.hu
SUMMARY:Szkander Egyetemi Kupa
DESCRIPTION:részletek: https://mefs.hu/esemeny/szkander-egyetemi-kupa-2025/
URL:https://tsi.uni-obuda.hu/event/szkander-egyetemi-kupa/
LOCATION:Dr. Koltai Jenő Sportközpont\, Aula 1123 Budapest\, Csörsz utca 2-4.
END:VEVENT
BEGIN:VEVENT
DTSTART;VALUE=DATE:20250506
DTEND;VALUE=DATE:20250507
DTSTAMP:20260419T150243
CREATED:20250423T110339Z
LAST-MODIFIED:20250423T110339Z
UID:4499-1746489600-1746575999@tsi.uni-obuda.hu
SUMMARY:MEFOB FESZT: SAKK MEFOB
DESCRIPTION:Részletek: https://mefs.hu/esemeny/sakk-mefob-2025/
URL:https://tsi.uni-obuda.hu/event/mefob-feszt-sakk-mefob/
LOCATION:Magyar Testnevelési és Sporttudományi Egyetem Dr. Koltai Jenő Sportközpont atlétika pálya 1123 Budapest\, Csörsz u. 2-4.
END:VEVENT
BEGIN:VEVENT
DTSTART;VALUE=DATE:20250506
DTEND;VALUE=DATE:20250507
DTSTAMP:20260419T150243
CREATED:20250203T095317Z
LAST-MODIFIED:20250423T111606Z
UID:4148-1746489600-1746575999@tsi.uni-obuda.hu
SUMMARY:Egyetemi Sportnap - ÓE
DESCRIPTION:Egyetemi Sportnap – 2025. május 6.!\n\nA sportnap nem csak egy nagyszerű lehetőség arra\, hogy kiszakadj a hétköznapokból\, hanem arra is\, hogy új lendületet adj egészségednek: feltölt energiával\, javítja a fizikai erőnléted\, oldja a stresszt\, és igazi élménnyé teszi a mozgást!\nGyere el az idei sportnapra\, ahol izgalmas versenyekkel\, látványos bemutatókkal és kihívásokkal várunk mindenkit!\n Versenyszámok (regisztráció szükséges):•  Labdarúgás (5+1 fős csapatok\, max. 10 fő/csapat) legfeljebb 12 csapat.• Streetball bajnokság (3 fős csapatok)•  Strandröplabda (4 fős csapatok\, max 5 fő / csapat\, min. 1 nő/csapat) A csapatos röplabdaversenyt követően külön páros röplabda versenyre is indul\, így akár mindkettőre is lehet nevezni!•  Tenisz (egyéni verseny)•  Futás (2000 méter)•  Asztalitenisz•  Szkander•  Fekvenyomás\n Regisztráció: https://forms.office.com/e/QSD3Hg9c0F\n\n Bemutatók és kihívások (Ezen felül több fakultatív programmal is várunk titeket\, melyek nem regisztrációhoz kötöttek): Kempó •  Buhurt •  E-sport •  Íjászat •  Ergométer (verseny is lehetséges) •  Hosszúkard •  Capoeira •  Flag/Amerikai foci •  Tollaslabda •  Focilabda\n Különleges kihívások:•  Teqball•  Pannaball•  Sakk•  Falmászás•  Geocaching\n Team Rekreáció extra programjai: Céllabda • Angry Birds csúzli • Bagjump • Pannaball Aréna • Darts Foci • XXL csocsó • Csocsó • Zorb • Rekesztorony építés • Sumo • Petanque • Ülőfoci • Cornhole\n A részvétellel testnevelés órákat is igazolhatsz! Levelezős hallgatóknak akár a teljes féléves teljesítményt kiválthatja.A részvétel ingyenes\, öltözőt biztosítunk!\nTalálkozzunk május 6-án!A szervezők a programváltozás jogát fenntartják.
URL:https://tsi.uni-obuda.hu/event/egyetemi-sportnap-oe/
LOCATION:1117 Budapest Bogdánfy utca 12 (BME sporttelep)
END:VEVENT
BEGIN:VEVENT
DTSTART;VALUE=DATE:20250505
DTEND;VALUE=DATE:20250506
DTSTAMP:20260419T150243
CREATED:20250423T110256Z
LAST-MODIFIED:20250423T110256Z
UID:4496-1746403200-1746489599@tsi.uni-obuda.hu
SUMMARY:MEFOB FESZT: ATLÉTIKA MEFOB
DESCRIPTION:részletek: https://mefs.hu/esemeny/atletika-mefob-2025/
URL:https://tsi.uni-obuda.hu/event/mefob-feszt-atletika-mefob/
LOCATION:Magyar Testnevelési és Sporttudományi Egyetem Dr. Koltai Jenő Sportközpont atlétika pálya 1123 Budapest\, Csörsz u. 2-4.
END:VEVENT
BEGIN:VEVENT
DTSTART;VALUE=DATE:20250426
DTEND;VALUE=DATE:20250427
DTSTAMP:20260419T150243
CREATED:20250423T110201Z
LAST-MODIFIED:20250423T110201Z
UID:4493-1745625600-1745711999@tsi.uni-obuda.hu
SUMMARY:Súlyemelő MEFOB
DESCRIPTION:Részletek: https://mefs.hu/esemeny/sulyemelo-mefob-2025/
URL:https://tsi.uni-obuda.hu/event/sulyemelo-mefob/
LOCATION:A Budapesti Műszaki és Gazdaságtudományi Egyetem Központi épületében lévő I. számú tornaterem. Budapest\, XI. Műegyetem rakpart 3. földszint 46.
END:VEVENT
BEGIN:VEVENT
DTSTART;VALUE=DATE:20250425
DTEND;VALUE=DATE:20250428
DTSTAMP:20260419T150243
CREATED:20250203T095217Z
LAST-MODIFIED:20250203T095217Z
UID:4144-1745539200-1745798399@tsi.uni-obuda.hu
SUMMARY:Ultrabalaton futóverseny
DESCRIPTION:Versenyinformációk: https://ultrabalaton.hu/nnultrabalaton/
URL:https://tsi.uni-obuda.hu/event/ultrabalaton-futoverseny/
LOCATION:Balaton
END:VEVENT
BEGIN:VEVENT
DTSTART;VALUE=DATE:20250412
DTEND;VALUE=DATE:20250414
DTSTAMP:20260419T150243
CREATED:20250203T095007Z
LAST-MODIFIED:20250203T095007Z
UID:4140-1744416000-1744588799@tsi.uni-obuda.hu
SUMMARY:Telekom Vivicittá futóverseny
DESCRIPTION:Jelentkezés hamarosan…. \n 
URL:https://tsi.uni-obuda.hu/event/telekom-vivicitta-futoverseny/
LOCATION:Margitsziget
END:VEVENT
BEGIN:VEVENT
DTSTART;VALUE=DATE:20250412
DTEND;VALUE=DATE:20250413
DTSTAMP:20260419T150243
CREATED:20250203T094823Z
LAST-MODIFIED:20250203T094823Z
UID:4136-1744416000-1744502399@tsi.uni-obuda.hu
SUMMARY:Fallabda Magyar Egyetemi-Főiskolai Országos Bajnokság
DESCRIPTION:Versenyinformációk: https://mefs.hu/esemeny/fallabda-mefob-2025/ \nNevezés és információk hamarosan…
URL:https://tsi.uni-obuda.hu/event/fallabda-magyar-egyetemi-foiskolai-orszagos-bajnoksag/
LOCATION:CITY SQUASH CLUB 1022. Budapest\, Marczibányi tér 13. (20/9831444)
END:VEVENT
BEGIN:VEVENT
DTSTART;VALUE=DATE:20250409
DTEND;VALUE=DATE:20250410
DTSTAMP:20260419T150243
CREATED:20250203T094225Z
LAST-MODIFIED:20250320T131302Z
UID:4133-1744156800-1744243199@tsi.uni-obuda.hu
SUMMARY:Óbudai Egyetem Karok Viadala
DESCRIPTION:Egy sportnap\, amelynek célja\, hogy minél több hallgató a saját karát képviselve versenyezzen. Minden résztvevő hallgató (1 pont/ sportágban szereplés/fő) beleszámít a saját kara összeredményébe. A dobogós helyezések után\, a hallgatók többletpontot kapnak. Minden versenyszám esetében külön eredményhirdetés lesz\, a program lezárásaképpen a karok között kialakult eredmény alapján díjkiosztóval zárul a sportnap. \nIdőpont: 2025. április 9. szerda 15:00-tól\nHelyszín: 1039 Királyok útja 33. ROCA Sportközpont\n Sportok: strandröplabda\, tenisz\, asztalitenisz\, teqball\, cornholle\, kievezés\, kerékpár\, darts\, húzodzkodás\, futóverseny\, ergométer\, kötélhúzás \nEsemény link: https://www.facebook.com/events/621960403932673 \n Részletes programterv\n– regisztráció 14:30-tól a helyszínen\n– a versenyek kezdete 15:30-tól folyamatosan (erről a későbbiekben kapnak tájékoztatást\, versenyszámonként)\n– nem verseny jellegű szabadidős programok\n16 órától kerékpár túra\n17:15-től közös kievezés\n– versenyek 18 óráig\n– eredményhirdetés 18:15-től \n Jelentkezés: https://forms.office.com/e/6GWHsBG2F2 \nCsapatsportok esetén a sportág megjelölés mellett lévő linken keresztül adják meg a csapattal kapcsolatos részletes információkat ( csapat tagjai\, email címek\, kurzus számok\, kar)\, illetve ott találhatóak a versenykírások is. \nHa az időbeosztás engedi akár több versenyszámban is lehet indulni\, azonban versenyszámokon belül nem alkalmazkodunk. Minden indulásért külön pont jár.\nAz aktív részvételért 3 db testnevelés órai alkalmat adunk. \nJELENTKEZÉSI HATÁRIDŐ A VERSENYEKRE: 2025. ÁPRILIS 4. péntek 10:00 óra \n Jelentkezés: https://forms.office.com/e/6GWHsBG2F2
URL:https://tsi.uni-obuda.hu/event/karok-kozotti-sportvetelkedo-romai-campus-sporttelep-megnyito/
LOCATION:1039 Királyok útja 33. ROCA Sportközpont
END:VEVENT
BEGIN:VEVENT
DTSTART;VALUE=DATE:20250405
DTEND;VALUE=DATE:20250407
DTSTAMP:20260419T150243
CREATED:20250203T094036Z
LAST-MODIFIED:20250203T094036Z
UID:4130-1743811200-1743983999@tsi.uni-obuda.hu
SUMMARY:Falmászó Magyar Egyetemi-Főiskolai Országos Bajnokság
DESCRIPTION:Versenyinformációk hamarosan…
URL:https://tsi.uni-obuda.hu/event/falmaszo-magyar-egyetemi-foiskolai-orszagos-bajnoksag/
LOCATION:MAG 47 Climb and Cafe\, 1106  Bp. Maglódi út 47.\,  direkt utcai bejárat: Kada u. 44.
END:VEVENT
BEGIN:VEVENT
DTSTART;VALUE=DATE:20250329
DTEND;VALUE=DATE:20250330
DTSTAMP:20260419T150243
CREATED:20250203T093842Z
LAST-MODIFIED:20250203T093842Z
UID:4125-1743206400-1743292799@tsi.uni-obuda.hu
SUMMARY:Földharc Magyar Egyetemi-Főiskolai Országos Bajnokság
DESCRIPTION:Versenyinformációk: https://mefs.hu/esemeny/magyar-egyetemek-es-foiskolak-orszagos-grappling-versenye/ \nNevezés: hamarosan… \n 
URL:https://tsi.uni-obuda.hu/event/foldharc-magyar-egyetemi-foiskolai-orszagos-bajnoksag/
LOCATION:Ludovika Aréna\, Nemzeti Közszolgálati Egyetem\, 1089 Budapest\, Diószegi Sámuel u. 23.
END:VEVENT
BEGIN:VEVENT
DTSTART;TZID=Europe/Budapest:20250324T150000
DTEND;TZID=Europe/Budapest:20250324T183000
DTSTAMP:20260419T150243
CREATED:20250304T100247Z
LAST-MODIFIED:20250304T100247Z
UID:4345-1742828400-1742841000@tsi.uni-obuda.hu
SUMMARY:Röplabda Házibajnokság
DESCRIPTION:Időpont: 2025.  március 24. hétfő 15:00 – 18:00 \nHelyszín: 1084 Budapest\, Tavaszmező utca 17. \, Tavaszmező utca tornaterem \nInformációk:\n– 6-6 elleni vegyes röplabda\, 2 lánynak a pályán kell lennie\n– Érvényes diákigazolvány bemutatása kötelező\, a külsős részéről is!\n– Maximum 6 csapat nevezését tudjuk elfogadni! \nNevezési határidő: 2025. március 21 péntek \nNappali tagozatos hallgatóknak 2 db testnevelés alkalmat jelent\, levelezősöknek a félév teljesítését.\nA dobogós helyezettek érmes díjazásban részesülnek. \nHallgatók és tanárok/oktatók jelentkezését egyaránt várjuk! \nJelentkezni: https://forms.office.com/e/jd4PR8vvDe
URL:https://tsi.uni-obuda.hu/event/roplabda-hazibajnoksag-2/
LOCATION:Budapest\,  Tavaszmző utca 17./C Tornaterem
END:VEVENT
BEGIN:VEVENT
DTSTART;VALUE=DATE:20250322
DTEND;VALUE=DATE:20250323
DTSTAMP:20260419T150243
CREATED:20250304T100109Z
LAST-MODIFIED:20250304T100109Z
UID:4343-1742601600-1742687999@tsi.uni-obuda.hu
SUMMARY:Jégkorong 3x3 MEFOB
DESCRIPTION:Információ: https://mefs.hu/esemeny/jegkorong-3×3-mefob-2025/ \nÉrdeklődni: Hiervarter Ákosnál\, a hiervarter.akos@uni-obuda.hu email címen
URL:https://tsi.uni-obuda.hu/event/jegkorong-3x3-mefob/
LOCATION:Budapest
END:VEVENT
BEGIN:VEVENT
DTSTART;TZID=Europe/Budapest:20250318T180000
DTEND;TZID=Europe/Budapest:20250318T210000
DTSTAMP:20260419T150243
CREATED:20241115T080047Z
LAST-MODIFIED:20241115T080050Z
UID:3923-1742320800-1742331600@tsi.uni-obuda.hu
SUMMARY:Óbudai Egyetem-Kandó SC - ELTE BEAC kosárlabda mérkőzés
DESCRIPTION:2025. március 18. kedd 18:15\nHelyszín: Lónyay Utcai Református Gimnázium
URL:https://tsi.uni-obuda.hu/event/obudai-egyetem-kando-sc-elte-beac-kosarlabda-merkozes/
LOCATION:Budapest\, Kinizsi u. 1-7\, 1092
END:VEVENT
BEGIN:VEVENT
DTSTART;VALUE=DATE:20250315
DTEND;VALUE=DATE:20250317
DTSTAMP:20260419T150243
CREATED:20250304T095914Z
LAST-MODIFIED:20250304T095914Z
UID:4340-1741996800-1742169599@tsi.uni-obuda.hu
SUMMARY:Tollaslabda MEFOB
DESCRIPTION:Információ: https://mefs.hu/esemeny/18554/ \nNevezés: 2025. március 10. \nNevezni Hiervarter Ákosnál a hiervarter.akos@uni-obuda.hu vagy Tóth Mikoltnál a toth.mikolt@uni-obuda.hu email címen.
URL:https://tsi.uni-obuda.hu/event/tollaslabda-mefob/
LOCATION:Cegléd
END:VEVENT
BEGIN:VEVENT
DTSTART;VALUE=DATE:20250315
DTEND;VALUE=DATE:20250316
DTSTAMP:20260419T150243
CREATED:20250304T095651Z
LAST-MODIFIED:20250304T095651Z
UID:4338-1741996800-1742083199@tsi.uni-obuda.hu
SUMMARY:Budapest CUP Regatta
DESCRIPTION:
URL:https://tsi.uni-obuda.hu/event/budapest-cup-regatta/
LOCATION:Budapest
END:VEVENT
BEGIN:VEVENT
DTSTART;TZID=Europe/Budapest:20250310T193000
DTEND;TZID=Europe/Budapest:20250310T220000
DTSTAMP:20260419T150243
CREATED:20241115T075818Z
LAST-MODIFIED:20241115T075821Z
UID:3921-1741635000-1741644000@tsi.uni-obuda.hu
SUMMARY:Közgáz SC és DSK - Óbudai Egyetem-Kandó SC kosárlabda mérkőzés
DESCRIPTION:2025. március 10. hétfő 19:50\nHelyszín: Lónyai Utcai Református Gimnázium
URL:https://tsi.uni-obuda.hu/event/kozgaz-sc-es-dsk-obudai-egyetem-kando-sc-kosarlabda-merkozes/
LOCATION:Budapest\, Kinizsi u. 1-7\, 1092
END:VEVENT
BEGIN:VEVENT
DTSTART;VALUE=DATE:20250308
DTEND;VALUE=DATE:20250309
DTSTAMP:20260419T150243
CREATED:20250304T095537Z
LAST-MODIFIED:20250304T095537Z
UID:4336-1741392000-1741478399@tsi.uni-obuda.hu
SUMMARY:Amerikai Foci MEFOB
DESCRIPTION:Információ: https://mefs.hu/esemeny/amerikai-futball-mefob-2025/ \n 
URL:https://tsi.uni-obuda.hu/event/amerikai-foci-mefob/
LOCATION:Budapest
END:VEVENT
BEGIN:VEVENT
DTSTART;VALUE=DATE:20250307
DTEND;VALUE=DATE:20250309
DTSTAMP:20260419T150243
CREATED:20250203T093317Z
LAST-MODIFIED:20250203T093342Z
UID:4118-1741305600-1741478399@tsi.uni-obuda.hu
SUMMARY:Kárpát-medencei Egyetemek Kupája (KEK Kupa)
DESCRIPTION:Indul a Kárpát-medencei Egyetemek Kupája\, amelyre várjuk azon hallgatók jelentkezését\, akik szívesen képviselnék egyetemünket sakkban\, dartsban vagy futásban. \nSakk jelentkezés: https://forms.office.com/e/TZQXZEVdzk \nDarts jelentkezés: https://forms.office.com/e/GRxCCNixEr \nFutás jelentkezés: https://forms.gle/hHx7hHp5bg2Egbqq7 \nRészletek: https://kekbudapest.hu/hirek/
URL:https://tsi.uni-obuda.hu/event/karpat-medencei-egyetemek-kupaja-kek-kupa/
LOCATION:Nemzeti Közszolgálati Egyetem – Ludovika Aréna
END:VEVENT
BEGIN:VEVENT
DTSTART;TZID=Europe/Budapest:20250304T180000
DTEND;TZID=Europe/Budapest:20250304T210000
DTSTAMP:20260419T150243
CREATED:20241115T075629Z
LAST-MODIFIED:20241115T075632Z
UID:3919-1741111200-1741122000@tsi.uni-obuda.hu
SUMMARY:Óbudai Egyetem-Kandó SC - Szombathelyi Egyetemi Sportegyesület kosárlabda mérkőzés
DESCRIPTION:2025. március 4. kedd 18:15\nHelyszín: Lónyay Utcai Református Gimnázium
URL:https://tsi.uni-obuda.hu/event/obudai-egyetem-kando-sc-szombathelyi-egyetemi-sportegyesulet-kosarlabda-merkozes/
END:VEVENT
BEGIN:VEVENT
DTSTART;TZID=Europe/Budapest:20250225T180000
DTEND;TZID=Europe/Budapest:20250225T210000
DTSTAMP:20260419T150243
CREATED:20241115T075458Z
LAST-MODIFIED:20241115T075501Z
UID:3917-1740506400-1740517200@tsi.uni-obuda.hu
SUMMARY:Óbudai Egyetem-Kandó SC - Ludovika SE kosárlabda mérkőzés
DESCRIPTION:2025. február 25. kedd 18:15\nHelyszín: Lónyai Utcai Református Gimnázium
URL:https://tsi.uni-obuda.hu/event/obudai-egyetem-kando-sc-ludovika-se-kosarlabda-merkozes/
LOCATION:Budapest\, Kinizsi u. 1-7\, 1092
END:VEVENT
BEGIN:VEVENT
DTSTART;TZID=Europe/Budapest:20250222T080000
DTEND;TZID=Europe/Budapest:20250222T170000
DTSTAMP:20260419T150243
CREATED:20250203T081300Z
LAST-MODIFIED:20250203T081300Z
UID:4116-1740211200-1740243600@tsi.uni-obuda.hu
SUMMARY:Magyar Parasport Napja
DESCRIPTION:Az esemény jóvoltából különböző eseményekkel készülünk. \nRészletek hamarosan…
URL:https://tsi.uni-obuda.hu/event/magyar-parasport-napja/
LOCATION:Budapest\,  Tavaszmző utca 17./C Tornaterem
END:VEVENT
BEGIN:VEVENT
DTSTART;VALUE=DATE:20250222
DTEND;VALUE=DATE:20250223
DTSTAMP:20260419T150243
CREATED:20250203T093631Z
LAST-MODIFIED:20250203T093631Z
UID:4121-1740182400-1740268799@tsi.uni-obuda.hu
SUMMARY:Evezős Ergométer Magyar Egyetemi-Főiskolai Országos Bajnokság
DESCRIPTION:Versenyinformációk: https://mefs.hu/esemeny/evezos-ergometeres-mefob-2025/ \nNevezés: Tóth Mikoltnál\, a toth.mikolt@uni-obuda.hu email címen\, vagy Hiervarter Ákosnál\, a hiervarter.akos@uni-obuda.hu email címen \n  \n 
URL:https://tsi.uni-obuda.hu/event/evezos-ergometer-magyar-egyetemi-foiskolai-orszagos-bajnoksag/
LOCATION:Kovács Katalin Nemzeti Kajak-Kenu Akadémia Sukorói kajak-kenu és evezős pálya 8096 Sukoró\, Tóparti út
END:VEVENT
BEGIN:VEVENT
DTSTART;TZID=Europe/Budapest:20250211T180000
DTEND;TZID=Europe/Budapest:20250211T210000
DTSTAMP:20260419T150243
CREATED:20241115T075321Z
LAST-MODIFIED:20241115T075324Z
UID:3915-1739296800-1739307600@tsi.uni-obuda.hu
SUMMARY:Óbudai Egyetem-Kandó SC - PTE PEAC kosárlabda mérkőzés
DESCRIPTION:2025. február 11. kedd 18:15\nHelyszín: Lónyay Utcai Református Gimnázium
URL:https://tsi.uni-obuda.hu/event/obudai-egyetem-kando-sc-pte-peac-kosarlabda-merkozes/
LOCATION:Budapest\, Kinizsi u. 1-7\, 1092
END:VEVENT
BEGIN:VEVENT
DTSTART;TZID=Europe/Budapest:20250128T180000
DTEND;TZID=Europe/Budapest:20250128T203000
DTSTAMP:20260419T150243
CREATED:20241115T075106Z
LAST-MODIFIED:20241115T075110Z
UID:3913-1738087200-1738096200@tsi.uni-obuda.hu
SUMMARY:Óbudai Egyetem-Kandó SC  - VESC
DESCRIPTION:2025. január 28. kedd 18:15\nHelyszín: Lónyay Utcai Református Gimnázium
URL:https://tsi.uni-obuda.hu/event/obudai-egyetem-kando-sc-vesc/
LOCATION:Budapest\, Kinizsi u. 1-7\, 1092
END:VEVENT
BEGIN:VEVENT
DTSTART;TZID=Europe/Budapest:20250118T100000
DTEND;TZID=Europe/Budapest:20250118T120000
DTSTAMP:20260419T150243
CREATED:20241114T110251Z
LAST-MODIFIED:20241114T110251Z
UID:3903-1737194400-1737201600@tsi.uni-obuda.hu
SUMMARY:MIX BEFS Universitas Röplabda Bajnokság
DESCRIPTION:10:00 Óbudai Egyetem UNI Mix – BGE PSZK UNI Mix
URL:https://tsi.uni-obuda.hu/event/mix-befs-universitas-roplabda-bajnoksag-2/
LOCATION:Budapest\,  Tavaszmző utca 17./C Tornaterem
END:VEVENT
BEGIN:VEVENT
DTSTART;TZID=Europe/Budapest:20250116T190000
DTEND;TZID=Europe/Budapest:20250116T210000
DTSTAMP:20260419T150243
CREATED:20241114T105946Z
LAST-MODIFIED:20241114T105946Z
UID:3900-1737054000-1737061200@tsi.uni-obuda.hu
SUMMARY:MIX BEFS Universitas Röplabda Bajnokság
DESCRIPTION:19:00 BGE Külker UNI Mix – Óbudai Egyetem UNI Mix
URL:https://tsi.uni-obuda.hu/event/mix-befs-universitas-roplabda-bajnoksag/
LOCATION:BGE Tornaterem Dióssy Lajos utca\, Dióssy Lajos utca 22-24.\, Budapest\, 1165\, Magyarország
END:VEVENT
BEGIN:VEVENT
DTSTART;TZID=Europe/Budapest:20241215T100000
DTEND;TZID=Europe/Budapest:20241215T150000
DTSTAMP:20260419T150243
CREATED:20241125T103618Z
LAST-MODIFIED:20241125T103711Z
UID:3975-1734256800-1734274800@tsi.uni-obuda.hu
SUMMARY:2. Lábtoll-labda Egyetemi Kupa
DESCRIPTION:Verseny időpontja: 2024. 12. 15. (vasárnap) 10 órától kb. 15 óráig. Megnyitó: 10:00 \n\nA verseny helye: Budapesti Corvinus Egyetem\, Gellért Campus\,  1118 Budapest\, Ménesi út 5. \n\nNevezés: Előzetesen 2024. december 13. (péntek) 20 óráig beérkezőleg e-mailben\, név és felsőoktatási intézmény megjelölésével vagy a helyszínen.\n\nVersenykiírás: https://mefs.hu/esemeny/ii-labtoll-labda-egyetemi-kupa/\n\nAkinek felkeltette érdeklődését és szívesen indulna a versenyen\, jelezze a  toth.mikolt@uni-obuda.hu  email címre.
URL:https://tsi.uni-obuda.hu/event/2-labtoll-labda-egyetemi-kupa/
LOCATION:Budapesti Corvinus Egyetem\, Gellért Campus\,  1118 Budapest\, Ménesi út 5.
END:VEVENT
END:VCALENDAR